BEGIN:VCALENDAR
VERSION:2.0
PRODID:-//FestivALL - ECPv6.15.17.1//NONSGML v1.0//EN
CALSCALE:GREGORIAN
METHOD:PUBLISH
X-ORIGINAL-URL:https://festivallcharleston.com
X-WR-CALDESC:Events for FestivALL
REFRESH-INTERVAL;VALUE=DURATION:PT1H
X-Robots-Tag:noindex
X-PUBLISHED-TTL:PT1H
BEGIN:VTIMEZONE
TZID:America/New_York
BEGIN:DAYLIGHT
TZOFFSETFROM:-0500
TZOFFSETTO:-0400
TZNAME:EDT
DTSTART:20220313T070000
END:DAYLIGHT
BEGIN:STANDARD
TZOFFSETFROM:-0400
TZOFFSETTO:-0500
TZNAME:EST
DTSTART:20221106T060000
END:STANDARD
BEGIN:DAYLIGHT
TZOFFSETFROM:-0500
TZOFFSETTO:-0400
TZNAME:EDT
DTSTART:20230312T070000
END:DAYLIGHT
BEGIN:STANDARD
TZOFFSETFROM:-0400
TZOFFSETTO:-0500
TZNAME:EST
DTSTART:20231105T060000
END:STANDARD
BEGIN:DAYLIGHT
TZOFFSETFROM:-0500
TZOFFSETTO:-0400
TZNAME:EDT
DTSTART:20240310T070000
END:DAYLIGHT
BEGIN:STANDARD
TZOFFSETFROM:-0400
TZOFFSETTO:-0500
TZNAME:EST
DTSTART:20241103T060000
END:STANDARD
END:VTIMEZONE
BEGIN:VEVENT
DTSTART;TZID=America/New_York:20230601T000000
DTEND;TZID=America/New_York:20230618T235959
DTSTAMP:20260423T072200
CREATED:20250924T015926Z
LAST-MODIFIED:20250924T015926Z
UID:1344-1685577600-1687132799@festivallcharleston.com
SUMMARY:"Show Your Pride" Window Display Contest
DESCRIPTION:Event Details\nUsing the colors of the rainbow\, businesses throughout Charleston use their storefronts to turn the city in to a work of art! Vote for your favorite on the Rainbow Pride WV Facebook page through June 15th. \nWinner will be announced Sunday\, June 18th! \nHave a few minutes to help us out? We’d love to hear from you! Take our survey below – and of course want to hear more about any event ideas and what you’d like to see at future FestivALL events! \n\nTake Our Survey
URL:https://festivallcharleston.com/event/show-your-pride-window-display-contest/
LOCATION:Charleston\, WV\, Charleston\, WV\, United States
CATEGORIES:visual arts
ATTACH;FMTTYPE=:
END:VEVENT
BEGIN:VEVENT
DTSTART;TZID=America/New_York:20230601T000000
DTEND;TZID=America/New_York:20230621T235959
DTSTAMP:20260423T072200
CREATED:20250924T020035Z
LAST-MODIFIED:20250924T020035Z
UID:1454-1685577600-1687391999@festivallcharleston.com
SUMMARY:Downtown Open
DESCRIPTION:Charleston Area Alliance invites you to head to downtown Charleston and enjoy this pop up putt putt course sponsored by West Virginia American Water and Mountain Care Network. \nYou may pick up and return putters and balls at any of these locations: Taylor Books\, Adelphia Sports Bar & Grille\, Art Emporium or Tony the Tailor. \n																										 \nTHANK YOU to our generous sponsors\n\n\n												Previous\n												Next \nHave a few minutes to help us out? We’d love to hear from you! Take our survey below – and of course want to hear more about any event ideas and what you’d like to see at future FestivALL events! \n			\n						Take our survey
URL:https://festivallcharleston.com/event/downtown-open/
LOCATION:Sidewalks of Downtown Charleston
CATEGORIES:family-fun
ATTACH;FMTTYPE=:
END:VEVENT
END:VCALENDAR