BEGIN:VCALENDAR
VERSION:2.0
PRODID:-//FestivALL - ECPv6.15.17.1//NONSGML v1.0//EN
CALSCALE:GREGORIAN
METHOD:PUBLISH
X-ORIGINAL-URL:https://festivallcharleston.com
X-WR-CALDESC:Events for FestivALL
REFRESH-INTERVAL;VALUE=DURATION:PT1H
X-Robots-Tag:noindex
X-PUBLISHED-TTL:PT1H
BEGIN:VTIMEZONE
TZID:America/New_York
BEGIN:DAYLIGHT
TZOFFSETFROM:-0500
TZOFFSETTO:-0400
TZNAME:EDT
DTSTART:20230312T070000
END:DAYLIGHT
BEGIN:STANDARD
TZOFFSETFROM:-0400
TZOFFSETTO:-0500
TZNAME:EST
DTSTART:20231105T060000
END:STANDARD
BEGIN:DAYLIGHT
TZOFFSETFROM:-0500
TZOFFSETTO:-0400
TZNAME:EDT
DTSTART:20240310T070000
END:DAYLIGHT
BEGIN:STANDARD
TZOFFSETFROM:-0400
TZOFFSETTO:-0500
TZNAME:EST
DTSTART:20241103T060000
END:STANDARD
BEGIN:DAYLIGHT
TZOFFSETFROM:-0500
TZOFFSETTO:-0400
TZNAME:EDT
DTSTART:20250309T070000
END:DAYLIGHT
BEGIN:STANDARD
TZOFFSETFROM:-0400
TZOFFSETTO:-0500
TZNAME:EST
DTSTART:20251102T060000
END:STANDARD
END:VTIMEZONE
BEGIN:VEVENT
DTSTART;TZID=America/New_York:20240601T000000
DTEND;TZID=America/New_York:20240624T235959
DTSTAMP:20260423T115218
CREATED:20250924T020236Z
LAST-MODIFIED:20250924T020236Z
UID:1663-1717200000-1719273599@festivallcharleston.com
SUMMARY:"Show Your Pride" Window Display Contest
DESCRIPTION:Using the colors of the rainbow\, businesses throughout Charleston use their storefronts to turn the city in to a work of art! Vote for your favorite on the Rainbow Pride WV Facebook page through June 23rd. \nWinner will be announced Monday\, June 24th! \nHave a few minutes to help us out? We’d love to hear from you! Take our survey below – and of course want to hear more about any event ideas and what you’d like to see at future FestivALL events! \n\nTake Our Survey
URL:https://festivallcharleston.com/event/show-your-pride-window-display-contest-2/
LOCATION:Charleston\, WV\, Charleston\, WV\, United States
CATEGORIES:visual arts
ATTACH;FMTTYPE=:
END:VEVENT
BEGIN:VEVENT
DTSTART;TZID=America/New_York:20240601T000000
DTEND;TZID=America/New_York:20240620T235959
DTSTAMP:20260423T115218
CREATED:20250924T020239Z
LAST-MODIFIED:20250924T020239Z
UID:1671-1717200000-1718927999@festivallcharleston.com
SUMMARY:Stories are Made\, Loop by Loop Exhibition
DESCRIPTION:This exhibit features local\, regional\, and international artists using the traditional technique of rug hooking to document and explore social\, emotional\, and personal topics. Using a variety of materials\, from wool fabric to recycled plastics\, these artists pull strips through an open weave fabric to create loops\, pile\, and texture. Rug hooking is steeped in generations of resourceful\, creative\, out-spoken makers. These contemporary artists work the technique’s simple\, repetitive motions by hand\, one loop at a time. The exhibit invites viewers to explore this unique form of storytelling.
URL:https://festivallcharleston.com/event/stories-are-made-loop-by-loop-exhibition/
LOCATION:The Clay Center\, 1 Clay Square\, Charleston\, WV\, 25301\, United States
CATEGORIES:visual arts
ATTACH;FMTTYPE=:
END:VEVENT
BEGIN:VEVENT
DTSTART;TZID=America/New_York:20240601T000000
DTEND;TZID=America/New_York:20240623T235959
DTSTAMP:20260423T115218
CREATED:20250924T020237Z
LAST-MODIFIED:20250924T020237Z
UID:1664-1717200000-1719187199@festivallcharleston.com
SUMMARY:Downtown Open
DESCRIPTION:Charleston Area Alliance invites you to head to downtown Charleston and enjoy this pop up putt putt course sponsored by West Virginia American Water. \nYou may pick up and return putters and balls at any of these locations: Taylor Books\, Adelphia Sports Bar & Grille\, Art Emporium or Tony the Tailor. \n  \nTHANK YOU to our\ngenerous sponsors\n\nHave a few minutes to help us out? We’d love to hear from you! Take our survey below – and of course want to hear more about any event ideas and what you’d like to see at future FestivALL events! \n\nTake our survey
URL:https://festivallcharleston.com/event/downtown-open-2/
LOCATION:Sidewalks of Downtown Charleston
CATEGORIES:family-fun
ATTACH;FMTTYPE=:
END:VEVENT
BEGIN:VEVENT
DTSTART;TZID=America/New_York:20240606T080000
DTEND;TZID=America/New_York:20240623T170000
DTSTAMP:20260423T115218
CREATED:20250924T020238Z
LAST-MODIFIED:20250924T020238Z
UID:1668-1717660800-1719162000@festivallcharleston.com
SUMMARY:KCPL Tiny Art Competition
DESCRIPTION:Tiny art\, made at the Kanawha County Public Library’s Main Library\, will be on display on the library’s third floor\, showcasing how art – big or small – can be impactful! Come vote for your favorites throughout FestivALL.		 \n\nHave a few minutes to help us out? We’d love to hear from you! Take our survey below – and of course want to hear more about any event ideas and what you’d like to see at future FestivALL events! \n\n			\n						Take Our Survey
URL:https://festivallcharleston.com/event/kcpl-tiny-art-competition/
LOCATION:Kanawha County Public Library
CATEGORIES:Local Art
ATTACH;FMTTYPE=:
END:VEVENT
BEGIN:VEVENT
DTSTART;TZID=America/New_York:20240614T000000
DTEND;TZID=America/New_York:20240623T235959
DTSTAMP:20260423T115218
CREATED:20250924T020238Z
LAST-MODIFIED:20250924T020238Z
UID:1669-1718323200-1719187199@festivallcharleston.com
SUMMARY:Community Keys
DESCRIPTION:What happens when you combine public art and musical instruments? Community Keys! Visit the Capitol Market\, GoMart Ballpark\, and Kanawha County Public Library and visit local artists turning pianos into works of art right before your eyes!		 \n\nHave a few minutes to help us out? We’d love to hear from you! Take our survey below – and of course want to hear more about any event ideas and what you’d like to see at future FestivALL events! \n\n			\n						Take Our Survey
URL:https://festivallcharleston.com/event/community-keys/
LOCATION:Kanawha County Public Library
CATEGORIES:music,visual arts
ATTACH;FMTTYPE=:
ORGANIZER;CN="FestivALL":MAILTO:director@festivallcharleston.com
END:VEVENT
BEGIN:VEVENT
DTSTART;TZID=America/New_York:20240614T000000
DTEND;TZID=America/New_York:20240623T235959
DTSTAMP:20260423T115218
CREATED:20250924T020239Z
LAST-MODIFIED:20250924T020239Z
UID:1670-1718323200-1719187199@festivallcharleston.com
SUMMARY:Born of Rebellion: West Virginia Statehood and the Civil War exhibit
DESCRIPTION:This comprehensive\, large-scale experience covers sectional tensions within Virginia preceding the Civil War\, the violence and chaos of the war surrounding West Virginia’s formation\, and its difficult aftermath as the new state struggled to forge its destiny during Reconstruction.
URL:https://festivallcharleston.com/event/born-of-rebellion-west-virginia-statehood-and-the-civil-war-exhibit/
LOCATION:WV State Capitol\, 1900 Kanawha Blvd E\, Charleston\, WV\, 25305\, United States
CATEGORIES:visual arts
ATTACH;FMTTYPE=:
END:VEVENT
BEGIN:VEVENT
DTSTART;TZID=America/New_York:20240614T080000
DTEND;TZID=America/New_York:20240623T170000
DTSTAMP:20260423T115218
CREATED:20250924T020238Z
LAST-MODIFIED:20250924T020238Z
UID:1667-1718352000-1719162000@festivallcharleston.com
SUMMARY:FestivALL Princess Exhibit
DESCRIPTION:FestivALL Princess Exhibit\nJune 14-23 | Library Hours​\n																										 \nIn honor of FestivALL’s 20th year\, view costumes\, props\, masks and more highlighting the evolution of the FestivALL Princess\, June 14th-23rd. While there\, learn more about the woman behind the mask\, Jude Binder\, and her vast contributions to the arts. \nKanawha County Public Library 3rd Floor Magic Box and Summers Street/Quarrier Street Window Display under the catwalk! \n\nHave a few minutes to help us out? We’d love to hear from you! Take our survey below – and of course want to hear more about any event ideas and what you’d like to see at future FestivALL events! \n\n			\n						Take Our Survey!\n					 \nWant to volunteer for an event?\n \n		\n			\n						Click Here to Volunteer!
URL:https://festivallcharleston.com/event/festivall-princess-exhibit/
LOCATION:Kanawha County Public Library
CATEGORIES:family-fun,Local Art,other-events
ATTACH;FMTTYPE=:
ORGANIZER;CN="FestivALL":MAILTO:director@festivallcharleston.com
END:VEVENT
BEGIN:VEVENT
DTSTART;TZID=America/New_York:20240614T080000
DTEND;TZID=America/New_York:20240623T170000
DTSTAMP:20260423T115218
CREATED:20250924T020257Z
LAST-MODIFIED:20250924T020257Z
UID:1719-1718352000-1719162000@festivallcharleston.com
SUMMARY:FestivALL Archives Exhibit
DESCRIPTION:FestivALL Archives Exhibit\nJune 14-23 | Library Hours\n																										 \nTake a trip down memory lane with FestivALL as we celebrate 20 years of the arts! Check out this curated exhibit featuring pieces of public art and photos of events past throughout FestivALL 2024\, June 14-23\, at the Kanawha County Public Library’s 3rd floor.\n\n\nHave a few minutes to help us out? We’d love to hear from you! Take our survey below – and of course want to hear more about any event ideas and what you’d like to see at future FestivALL events! \n\n\n			\n						Take Our Survey!\n					 \nWant to volunteer for an event?\n \n		\n			\n						Click Here to Volunteer!
URL:https://festivallcharleston.com/event/festivall-archives-exhibit/
LOCATION:Kanawha County Public Library
CATEGORIES:family-fun,Local Art,other-events
ATTACH;FMTTYPE=:
ORGANIZER;CN="FestivALL":MAILTO:director@festivallcharleston.com
END:VEVENT
BEGIN:VEVENT
DTSTART;TZID=America/New_York:20240614T100000
DTEND;TZID=America/New_York:20240623T170000
DTSTAMP:20260423T115218
CREATED:20250924T015928Z
LAST-MODIFIED:20250924T015928Z
UID:1349-1718359200-1719162000@festivallcharleston.com
SUMMARY:2024 Art-for-ALL Kids' Juried Art Exhibition
DESCRIPTION:Art-for-ALL Kids’ Juried Art Exhibition\nJune 14-23 | Clay Center Hours\n																										 \nArt-for-ALL is a juried art exhibition open to children in grades Pre-K through 6th in 13 WV counties at The Clay Center. \nCheck out the exhibition in the Ticketing Lobby of the Clay Center or on the FestivALL Neighborhood Arts Facebook page.  \nExhibition open during Clay Center hours: \nTuesday-Saturday | 10am-5pm \nSunday | 12pm-5pm \nMonday | Closed \n			\n						Vote for Peope’s Choice Here!\n					 \nThe exhibition will close with an awards ceremony on June 23rd at 1:30pm in the Susan Runyan Maier Sculpture Garden at The Clay Center. \nThank you to our generous sponsors\n\n\n												Previous\n												Next \nHave a few minutes to help us out? We’d love to hear from you! Take our survey below – and of course want to hear more about any event ideas and what you’d like to see at future FestivALL events! \n			\n						Take our Survey!
URL:https://festivallcharleston.com/event/art-for-all-kids-juried-art-exhibition/
LOCATION:The Clay Center\, 1 Clay Square\, Charleston\, WV\, 25301\, United States
CATEGORIES:family-fun,Local Art,visual arts
ATTACH;FMTTYPE=:
ORGANIZER;CN="FestivALL":MAILTO:director@festivallcharleston.com
END:VEVENT
BEGIN:VEVENT
DTSTART;TZID=America/New_York:20240616T090000
DTEND;TZID=America/New_York:20240616T100000
DTSTAMP:20260423T115218
CREATED:20250924T020245Z
LAST-MODIFIED:20250924T020245Z
UID:1687-1718528400-1718532000@festivallcharleston.com
SUMMARY:Morning Yoga & Sound
DESCRIPTION:Just like the physical body\, our energy and emotional systems require care and attention. When neglected\, our frequency lowers and we lose the vitality and resilience to meet the demands of everyday life. It can even cause us to experience disease like chronic stress\, anxiety and depression. In this free class that is accessible to beginners\, experienced Practitioners and even first timers\, we will use therapeutic movement\, dynamic breathing\, and end with a crystal bowl sound bath meditation to raise your frequency\, unravel stress\, nurture your nervous system and shift your state of Being. Must bring your own mats and props. \nHave a few minutes to help us out? We’d love to hear from you! Take our survey below – and of course want to hear more about any event ideas and what you’d like to see at future FestivALL events! \n\nTake our survey!\n \nWant to volunteer for this event?\n\nClick Here to Volunteer!
URL:https://festivallcharleston.com/event/morning-yoga-sound/
LOCATION:Haddad Riverfront Park\, 600 Kanawha Blvd. E\, Charleston\, WV\, 25301\, United States
CATEGORIES:other-events
END:VEVENT
BEGIN:VEVENT
DTSTART;TZID=America/New_York:20240616T130000
DTEND;TZID=America/New_York:20240616T160000
DTSTAMP:20260423T115218
CREATED:20250924T020245Z
LAST-MODIFIED:20250924T020245Z
UID:1688-1718542800-1718553600@festivallcharleston.com
SUMMARY:Carriage Trail Walk with Music\, Art\, Dance
DESCRIPTION:Take a shaded stroll on the charming Sunrise Carriage Trail with music\, dance\, and art along the way. \nPerformances include music by Nolan Collins\, an interactive jam session with Mark Davis & Andy Park\, dance performances with JADCO Contemporary Dance Company\, form drawing lessons with Megan Dailey and more. \nLocation/Parking: Sunrise Carriage Trail\, 746 Myrtle Rd. Parking is limited. We recommend parking at Farmer\, Cline\, Campbell PLLC at the top of the trail or across the bridge in downtown Charleston. \nTHANK YOU to our Sponsors\n\n\n\n												Previous\n												Next \nHave a few minutes to help us out? We’d love to hear from you! Take our survey below – and of course want to hear more about any event ideas and what you’d like to see at future FestivALL events! \n			\n						Take Our Survey
URL:https://festivallcharleston.com/event/carriage-trail-walk-with-music-art-dance-2/
LOCATION:Sunrise Carriage Trail\, 746 Myrtle Rd.\, Charleston\, WV\, 25314\, United States
CATEGORIES:dance,family-fun,Local Art,music,visual arts
ATTACH;FMTTYPE=:
ORGANIZER;CN="FestivALL":MAILTO:director@festivallcharleston.com
END:VEVENT
BEGIN:VEVENT
DTSTART;TZID=America/New_York:20240616T140000
DTEND;TZID=America/New_York:20240616T160000
DTSTAMP:20260423T115218
CREATED:20250924T020013Z
LAST-MODIFIED:20250924T020013Z
UID:1437-1718546400-1718553600@festivallcharleston.com
SUMMARY:WV Birthday Celebration Concert
DESCRIPTION:For more than 20 years\, the Kanawha State Forest Foundation has hosted the Kanawha Valley Community Band for a concert honoring WV Day. \nCome celebrate West Virginia’s birthday at Kanawha State Forest with a free concert. Attendees are encouraged to bring a lawn chair. \nThe concert will take place on the lawn in front of the office/by the Nature Center parking lot (former pool complex). \nPresented by\n\nHave a few minutes to help us out? We’d love to hear from you! Take our survey below – and of course want to hear more about any event ideas and what you’d like to see at future FestivALL events! \n			\n						Take our survey
URL:https://festivallcharleston.com/event/wvcelebration/
LOCATION:Kanawha State Forest\, 7420 Kanawha State Forest Dr.\, Charleston\, WV\, 25314\, United States
CATEGORIES:music,other-events
ATTACH;FMTTYPE=:
END:VEVENT
BEGIN:VEVENT
DTSTART;TZID=America/New_York:20240616T150000
DTEND;TZID=America/New_York:20240616T170000
DTSTAMP:20260423T115218
CREATED:20250924T020006Z
LAST-MODIFIED:20250924T020006Z
UID:1430-1718550000-1718557200@festivallcharleston.com
SUMMARY:Authors' Roundtable
DESCRIPTION:Curated and hosted by WV Poet Laureate\, Marc Harshman\, this year’s panel will feature award-winning journalists Eric Eyre\, Erin Beck\, and Amelia Ferrell Knisely. \nEach will read selections from their works\, share insights regarding the field of journalism and reflect upon the current state of the literary world. The authors will also be open to audience Q&A. \nThis project is being presented with financial assistance from the West Virginia Humanities Council\, a state affiliate for the National Endowment for the Humanities. Any views\, findings\, conclusions\, or recommendations do not necessarily represent those of the West Virginia Humanities Council or the National Endowment for the Humanities \n																										 \n\n            Sponsored by\n			        \n		                     \n\n\n												Previous\n												Next \nHave a few minutes to help us out? We’d love to hear from you! Take our survey below – and of course want to hear more about any event ideas and what you’d like to see at future FestivALL events! \n			\n						Take our survey\n					 \n\nWant to volunteer for an event?\n \n            \n                                Click Me to Volunteer!
URL:https://festivallcharleston.com/event/authors-rountable/
LOCATION:Taylor Books\, 226 Capitol Street\, Charleston\, WV\, 25301\, United States
CATEGORIES:other-events
ATTACH;FMTTYPE=:
ORGANIZER;CN="FestivALL":MAILTO:director@festivallcharleston.com
END:VEVENT
BEGIN:VEVENT
DTSTART;TZID=America/New_York:20240616T160000
DTEND;TZID=America/New_York:20240616T180000
DTSTAMP:20260423T115218
CREATED:20250924T020245Z
LAST-MODIFIED:20250924T020245Z
UID:1689-1718553600-1718560800@festivallcharleston.com
SUMMARY:TGKVF: STREAM for All
DESCRIPTION:Calling all aspiring scientists\, engineers\, artists\, and innovators! Get ready to ignite your curiosity and explore the wonders of STREAM (Science\, Technology\, Reading\, Engineering\, Arts\, and Mathematics). Join us for this free event as we spark creativity\, inspire innovation\, and cultivate the next generation of leaders. Don’t miss out on the opportunity to unleash your potential and change the world through the power of STREAM.		 \n\nHave a few minutes to help us out? We’d love to hear from you! Take our survey below – and of course want to hear more about any event ideas and what you’d like to see at future FestivALL events! \n\n			\n						Take Out Survey!\n					 \n\n\nWant to volunteer for an event?\n\n            \n                                Click Me to Volunteer!
URL:https://festivallcharleston.com/event/tgkvf-stream-for-all/
LOCATION:Slack Plaza\, City Center\, 177 Summers Street\, Charleston\, West Virginia
CATEGORIES:family-fun,Local Art,music,other-events
ATTACH;FMTTYPE=:
END:VEVENT
BEGIN:VEVENT
DTSTART;TZID=America/New_York:20240616T170000
DTEND;TZID=America/New_York:20240616T190000
DTSTAMP:20260423T115218
CREATED:20250924T020246Z
LAST-MODIFIED:20250924T020246Z
UID:1692-1718557200-1718564400@festivallcharleston.com
SUMMARY:Academy Singers presents A Concert of The Beatles
DESCRIPTION:Academy Singers\, a talented local choral group under the direction of Dr. Mark Hornbaker\, will provide a free concert featuring the music of The Beatles.		 \nPresented by\nAcademy Singers\n\nHave a few minutes to help us out? We’d love to hear from you! Take our survey below – and of course want to hear more about any event ideas and what you’d like to see at future FestivALL events! \n\n			\n						Take Our Survey!\n					 \nWant to volunteer for an event?\n \n		\n			\n						Click Here to Volunteer!
URL:https://festivallcharleston.com/event/academy-singers-presents-a-concert-of-the-beatles/
LOCATION:Kanawha United Presbyterian\, 1009 Virginia St. E\, Charleston\, WV
CATEGORIES:music
ATTACH;FMTTYPE=:
END:VEVENT
BEGIN:VEVENT
DTSTART;TZID=America/New_York:20240616T170000
DTEND;TZID=America/New_York:20240616T210000
DTSTAMP:20260423T115218
CREATED:20250924T020246Z
LAST-MODIFIED:20250924T020246Z
UID:1690-1718557200-1718571600@festivallcharleston.com
SUMMARY:Jewish Film Festival: Father's Day Edition
DESCRIPTION:An evening of the freshest short Jewish themed films from around the world and hot dogs. \nSponsors: Federated Jewish Charities of Charleston
URL:https://festivallcharleston.com/event/jewish-film-festival-fathers-day-edition/
LOCATION:The Clay Center\, 1 Clay Square\, Charleston\, WV\, 25301\, United States
CATEGORIES:Film
END:VEVENT
BEGIN:VEVENT
DTSTART;TZID=America/New_York:20240616T190000
DTEND;TZID=America/New_York:20240616T214500
DTSTAMP:20260423T115218
CREATED:20250924T020246Z
LAST-MODIFIED:20250924T020246Z
UID:1691-1718564400-1718574300@festivallcharleston.com
SUMMARY:Mountain Stage with John R. Miller\, Cris Jacobs and more
DESCRIPTION:Be part of the live audience as Mountain Stage records a new episode for NPR Music with host Kathy Mattea! \nGuest artists: John R. Miller\, Cris Jacobs\, Lindsay Lou\, Jeffrey Martin and Margo Cilker. \n\nCLICK HERE FOR TICKETS\n \nMore details below \nTicket Info\nAll tickets to this show are e-tickets\, and will be emailed to you upon purchase. Open up the pdf and the QR code on your ticket will be scanned at the door. This event will also be offered as a livestream. \nWatch the Livestream!\nMountain Stage livestreams are free\, however there are some incredible folks out there who’d like to show their support through a donation-based\, pay what you want ”ticket” for the livestream. This is a donation-based “ticket” to show some love for the program and is not a ticket to the live event. \nYou’ll be able to catch the show from the comfort of your home (or wherever you wish) Sunday\, June 18\, 2023 –  at 7 PM ET at mountainstage.org \nIf you have questions or concerns\, please reach out to live@mountainstage.org \nThanks to our generous sponsors!\n\n\n\n\n\nPrevious\nNext \nHave a few minutes to help us out? We’d love to hear from you! Take our survey below – and of course want to hear more about any event ideas and what you’d like to see at future FestivALL events! \n\nTake our survey
URL:https://festivallcharleston.com/event/mountain-stage-with-john-r-miller-cris-jacobs-and-more/
LOCATION:The Culture Center\, 1900 Kanawha Blvd E\, Charleston\, WV\, 25301\, United States
CATEGORIES:music
END:VEVENT
END:VCALENDAR