BEGIN:VCALENDAR
VERSION:2.0
PRODID:-//FestivALL - ECPv6.15.17.1//NONSGML v1.0//EN
CALSCALE:GREGORIAN
METHOD:PUBLISH
X-ORIGINAL-URL:https://festivallcharleston.com
X-WR-CALDESC:Events for FestivALL
REFRESH-INTERVAL;VALUE=DURATION:PT1H
X-Robots-Tag:noindex
X-PUBLISHED-TTL:PT1H
BEGIN:VTIMEZONE
TZID:America/New_York
BEGIN:DAYLIGHT
TZOFFSETFROM:-0500
TZOFFSETTO:-0400
TZNAME:EDT
DTSTART:20240310T070000
END:DAYLIGHT
BEGIN:STANDARD
TZOFFSETFROM:-0400
TZOFFSETTO:-0500
TZNAME:EST
DTSTART:20241103T060000
END:STANDARD
BEGIN:DAYLIGHT
TZOFFSETFROM:-0500
TZOFFSETTO:-0400
TZNAME:EDT
DTSTART:20250309T070000
END:DAYLIGHT
BEGIN:STANDARD
TZOFFSETFROM:-0400
TZOFFSETTO:-0500
TZNAME:EST
DTSTART:20251102T060000
END:STANDARD
BEGIN:DAYLIGHT
TZOFFSETFROM:-0500
TZOFFSETTO:-0400
TZNAME:EDT
DTSTART:20260308T070000
END:DAYLIGHT
BEGIN:STANDARD
TZOFFSETFROM:-0400
TZOFFSETTO:-0500
TZNAME:EST
DTSTART:20261101T060000
END:STANDARD
END:VTIMEZONE
BEGIN:VEVENT
DTSTART;TZID=America/New_York:20251002T000000
DTEND;TZID=America/New_York:20251107T235959
DTSTAMP:20260423T072010
CREATED:20250924T020350Z
LAST-MODIFIED:20250925T170735Z
UID:1811-1759363200-1762559999@festivallcharleston.com
SUMMARY:Still Becoming: Honoring the Process of Change—Unfinished\, Ongoing\, and Full of Possibility
DESCRIPTION:WVSDT’s art exhibit\, taking place in the Kanawha County Public Library\, is being held in conjunction with Youth Justice Action Month (YJAM). YJAM is an annual campaign where advocates unite to organize digital and in-person events to raise awareness and inspire action for young people impacted by the justice system. \nThis exhibit will feature student artwork centered around the reflection of growth and transformation that is witnessed in youth every day.
URL:https://festivallcharleston.com/event/still-becoming-honoring-the-process-of-change-unfinished-ongoing-and-full-of-possibility/
LOCATION:Kanawha County Public Library
CATEGORIES:Local Art,visual arts
ATTACH;FMTTYPE=image/webp:https://festivallcharleston.com/wp-content/uploads/2025/09/download-1-1-1.webp
ORGANIZER;CN="WVSDT":MAILTO:https://wvde.us/wvsdt
END:VEVENT
BEGIN:VEVENT
DTSTART;TZID=America/New_York:20251008T190000
DTEND;TZID=America/New_York:20251008T203000
DTSTAMP:20260423T072010
CREATED:20250924T020341Z
LAST-MODIFIED:20251007T202244Z
UID:1789-1759950000-1759955400@festivallcharleston.com
SUMMARY:Three Things: My First\, My Favorite\, My Future
DESCRIPTION:FestivALL presents Season 10\, Episode 3 of Three Things during FestivALL at the Capitol Market!\nFestivALL’s live speaker series showcases three guests who will share insight into their personal story of where they started\, what they love\, and where they are going. This episode features renowned jazz pianist and  Mountain Stage band member Bob Thompson\, astrophysicist Shannon Silverman\, and community organizer Mavery Davis. \n  \n ◆◇◆◇◆◇◆\nTickets\n$10\, Student Tickets: $5\nCLICK HERE FOR TICKETS \n◆◇◆◇◆◇◆ \nDate: October 8\, 2025\nTime: 7pm\nLocation: Capitol Market\, Capitol Market\, 800 Smith St.\n  \n 
URL:https://festivallcharleston.com/event/three-things-my-first-my-favorite-my-future-3/
LOCATION:Capitol Market\, 800 Smith St\, Charleston\, WV\, 25301
CATEGORIES:other-events,three-things
ATTACH;FMTTYPE=image/png:https://festivallcharleston.com/wp-content/uploads/2025/09/FestivFALL_2025-3.png
ORGANIZER;CN="FestivALL":MAILTO:director@festivallcharleston.com
END:VEVENT
END:VCALENDAR