BEGIN:VCALENDAR
VERSION:2.0
PRODID:-//FestivALL - ECPv6.15.17.1//NONSGML v1.0//EN
CALSCALE:GREGORIAN
METHOD:PUBLISH
X-WR-CALNAME:FestivALL
X-ORIGINAL-URL:https://festivallcharleston.com
X-WR-CALDESC:Events for FestivALL
REFRESH-INTERVAL;VALUE=DURATION:PT1H
X-Robots-Tag:noindex
X-PUBLISHED-TTL:PT1H
BEGIN:VTIMEZONE
TZID:America/New_York
BEGIN:DAYLIGHT
TZOFFSETFROM:-0500
TZOFFSETTO:-0400
TZNAME:EDT
DTSTART:20250309T070000
END:DAYLIGHT
BEGIN:STANDARD
TZOFFSETFROM:-0400
TZOFFSETTO:-0500
TZNAME:EST
DTSTART:20251102T060000
END:STANDARD
BEGIN:DAYLIGHT
TZOFFSETFROM:-0500
TZOFFSETTO:-0400
TZNAME:EDT
DTSTART:20260308T070000
END:DAYLIGHT
BEGIN:STANDARD
TZOFFSETFROM:-0400
TZOFFSETTO:-0500
TZNAME:EST
DTSTART:20261101T060000
END:STANDARD
BEGIN:DAYLIGHT
TZOFFSETFROM:-0500
TZOFFSETTO:-0400
TZNAME:EDT
DTSTART:20270314T070000
END:DAYLIGHT
BEGIN:STANDARD
TZOFFSETFROM:-0400
TZOFFSETTO:-0500
TZNAME:EST
DTSTART:20271107T060000
END:STANDARD
END:VTIMEZONE
BEGIN:VEVENT
DTSTART;TZID=America/New_York:20260511T000000
DTEND;TZID=America/New_York:20260612T235959
DTSTAMP:20260422T063827
CREATED:20260414T180013Z
LAST-MODIFIED:20260415T171456Z
UID:2089-1778457600-1781308799@festivallcharleston.com
SUMMARY:Show Your Pride Window Display Contest
DESCRIPTION:Show your pride!\nUsing the colors of the rainbow\, businesses throughout Charleston\, WV are invited to use their storefronts to turn the city into a work of art. These colorful storefronts will help us uplift the capital city\, shining a positive light on business\, art\, and Pride. \nPresented by: Rainbow Pride of West Virginia\nLocation: Various locations
URL:https://festivallcharleston.com/event/show-your-pride-window-display-contest-3/
LOCATION:Charleston\, WV\, Charleston\, WV\, United States
CATEGORIES:Local Art,other-events,visual arts
ATTACH;FMTTYPE=image/png:https://festivallcharleston.com/wp-content/uploads/2026/04/Screenshot-2026-04-06-at-10.58.37-AM.png
END:VEVENT
BEGIN:VEVENT
DTSTART;TZID=America/New_York:20260521T000000
DTEND;TZID=America/New_York:20260611T235959
DTSTAMP:20260422T063827
CREATED:20260414T180031Z
LAST-MODIFIED:20260415T172126Z
UID:2091-1779321600-1781222399@festivallcharleston.com
SUMMARY:Downtown Open
DESCRIPTION:Golf your way through downtown Charleston\, WV this summer!\nThe sidewalks of downtown Charleston are transformed into a one-of-a-kind miniature golf course that allows people to explore our downtown\, showcases regional\ncompanies and small businesses\, and provides free entertainment to friends and families. \n• Putters and balls are available at these locations: Taylor Books\, Adelphia Sports Bar & Grille\, Art Emporium\, and Tony the Tailor \nThis event is presented by the Charleston Area Alliance & Chamber of Commerce \n  \n• Sponsor: West Virginia International Yeager Airport\n• Location: Downtown Charleston\n• When: May 21 – June 11
URL:https://festivallcharleston.com/event/downtown-open-4/
LOCATION:Downtown Charleston
CATEGORIES:family-fun,Local Art,other-events
ATTACH;FMTTYPE=image/jpeg:https://festivallcharleston.com/wp-content/uploads/2026/04/golf-e1776273583325.jpg
END:VEVENT
BEGIN:VEVENT
DTSTART;TZID=America/New_York:20260522T000000
DTEND;TZID=America/New_York:20260531T235959
DTSTAMP:20260422T063827
CREATED:20260414T180008Z
LAST-MODIFIED:20260416T180511Z
UID:2096-1779408000-1780271999@festivallcharleston.com
SUMMARY:FestivALL Street Performers\, Artists\, and Public Art
DESCRIPTION:FestivALL Princess (Jude Binder)\, O’Ryan the O’Mazing\, public art projects\, and more will add color and fun to many events throughout FestivALL. \nLocation: Various events during FestivALL
URL:https://festivallcharleston.com/event/festivall-street-performers-artists-and-public-art/
LOCATION:Downtown Charleston
CATEGORIES:family-fun,Local Art
ATTACH;FMTTYPE=image/jpeg:https://festivallcharleston.com/wp-content/uploads/2026/04/CAF_11-scaled.jpg
ORGANIZER;CN="FestivALL":MAILTO:director@festivallcharleston.com
END:VEVENT
BEGIN:VEVENT
DTSTART;TZID=America/New_York:20260522T000000
DTEND;TZID=America/New_York:20260524T235959
DTSTAMP:20260422T063827
CREATED:20260414T180015Z
LAST-MODIFIED:20260416T180634Z
UID:2093-1779408000-1779667199@festivallcharleston.com
SUMMARY:Vandalia Gathering
DESCRIPTION:Vanadalia Gathering\nCelebrate traditional old-time music and dance with a weekend of contests\, performances\, and impromptu jam sessions around the state Capitol grounds. The festival also features the popular “Liar’s Contest\,” as well as dozens of artisans and food vendors. \nVisit wvculture.org for the full schedule \nPresented by West Virginia Department of Tourism \nLocation: West Virginia Capitol Complex\, 1900 Kanawha Blvd. E. \nWhen: May 22–24
URL:https://festivallcharleston.com/event/vandalia-gathering/
LOCATION:WV State Capitol\, 1900 Kanawha Blvd E\, Charleston\, WV\, 25305\, United States
CATEGORIES:family-fun,Local Art,music
ATTACH;FMTTYPE=image/png:https://festivallcharleston.com/wp-content/uploads/2026/04/Screenshot-2026-04-06-at-11.07.10-AM-scaled.png
END:VEVENT
BEGIN:VEVENT
DTSTART;TZID=America/New_York:20260522T000000
DTEND;TZID=America/New_York:20260531T235959
DTSTAMP:20260422T063827
CREATED:20260414T180039Z
LAST-MODIFIED:20260416T180408Z
UID:2098-1779408000-1780271999@festivallcharleston.com
SUMMARY:Design the Unexpected
DESCRIPTION:During the week of FestivALL\, stop by Stray Dog Antiques for a one-of-a-kind showcase where art\, fashion\, and creativity collide. Five artists have transformed upcycled materials found throughout the beloved antique store into stunning wearable art and designs. Visit the display\, celebrate sustainability and local talent\, and vote for your favorite creation! \nPresented by Stray Dog Antiques \nLocation: Stray Dog Antiques\, 219 Hale St.
URL:https://festivallcharleston.com/event/design-the-unexpected/
LOCATION:Stray Dog Antiques
CATEGORIES:Local Art,visual arts
ATTACH;FMTTYPE=image/png:https://festivallcharleston.com/wp-content/uploads/2026/04/Screenshot-2026-04-06-at-11.25.09-AM.png
END:VEVENT
BEGIN:VEVENT
DTSTART;TZID=America/New_York:20260522T000000
DTEND;TZID=America/New_York:20260531T235959
DTSTAMP:20260422T063827
CREATED:20260414T180040Z
LAST-MODIFIED:20260416T180319Z
UID:2102-1779408000-1780271999@festivallcharleston.com
SUMMARY:Art-for-ALL Kids Juried Art Exhibition
DESCRIPTION:Art-for-ALL is a juried exhibition open to children in grades Pre-K through 6th in several WV counties. The exhibition is open during KCPL hours on the fourth floor of the Kanawha County Public Library’s downtown branch. \nSupport: Kanawha County Public Library \nSponsored by The Elliot Family Foundation\, Charles & Mary Fayne Glotfelty Foundation\, The Daywood Foundation \nLocation: Kanawha County Public Library Jameson Tower Gallery (4th floor)\, 123 Capitol St. \nKanawha County Public Library Hours:\nMon.–Thur. 9am–8pm\nFri. & Sat. 9am–5pm\nSun. Closed
URL:https://festivallcharleston.com/event/art-for-all-kids-juried-art-exhibition-3/
LOCATION:Kanawha County Public Library
CATEGORIES:family-fun,Local Art,visual arts
ATTACH;FMTTYPE=image/jpeg:https://festivallcharleston.com/wp-content/uploads/2026/04/DSC09954.jpg
ORGANIZER;CN="FestivALL":MAILTO:director@festivallcharleston.com
END:VEVENT
BEGIN:VEVENT
DTSTART;TZID=America/New_York:20260522T063000
DTEND;TZID=America/New_York:20260522T213000
DTSTAMP:20260422T063827
CREATED:20260414T060006Z
LAST-MODIFIED:20260416T191857Z
UID:2021-1779431400-1779485400@festivallcharleston.com
SUMMARY:Live on the Levee presented by Moses Auto Group
DESCRIPTION:Friday\, May 22 | 6:30pm \nEnjoy Charleston’s free\, Friday-night summer concert series set to the backdrop of the Kanawha River. Food trucks and beverage vendors on site.  \nPresented by Moses Auto Group and The City of Charleston \nLocation: Haddad Riverfront Park\, 600 Kanawha Blvd. East \nTime: 6:30pm
URL:https://festivallcharleston.com/event/live-on-the-levee-presented-by-moses-auto-group-2/
LOCATION:Haddad Riverfront Park\, 600 Kanawha Blvd. E\, Charleston\, WV\, 25301\, United States
CATEGORIES:family-fun,music
ATTACH;FMTTYPE=image/jpeg:https://festivallcharleston.com/wp-content/uploads/2026/04/F1_73-scaled.jpg
END:VEVENT
END:VCALENDAR