BEGIN:VCALENDAR
VERSION:2.0
PRODID:-//FestivALL - ECPv6.15.17.1//NONSGML v1.0//EN
CALSCALE:GREGORIAN
METHOD:PUBLISH
X-WR-CALNAME:FestivALL
X-ORIGINAL-URL:https://festivallcharleston.com
X-WR-CALDESC:Events for FestivALL
REFRESH-INTERVAL;VALUE=DURATION:PT1H
X-Robots-Tag:noindex
X-PUBLISHED-TTL:PT1H
BEGIN:VTIMEZONE
TZID:America/New_York
BEGIN:DAYLIGHT
TZOFFSETFROM:-0500
TZOFFSETTO:-0400
TZNAME:EDT
DTSTART:20250309T070000
END:DAYLIGHT
BEGIN:STANDARD
TZOFFSETFROM:-0400
TZOFFSETTO:-0500
TZNAME:EST
DTSTART:20251102T060000
END:STANDARD
BEGIN:DAYLIGHT
TZOFFSETFROM:-0500
TZOFFSETTO:-0400
TZNAME:EDT
DTSTART:20260308T070000
END:DAYLIGHT
BEGIN:STANDARD
TZOFFSETFROM:-0400
TZOFFSETTO:-0500
TZNAME:EST
DTSTART:20261101T060000
END:STANDARD
BEGIN:DAYLIGHT
TZOFFSETFROM:-0500
TZOFFSETTO:-0400
TZNAME:EDT
DTSTART:20270314T070000
END:DAYLIGHT
BEGIN:STANDARD
TZOFFSETFROM:-0400
TZOFFSETTO:-0500
TZNAME:EST
DTSTART:20271107T060000
END:STANDARD
END:VTIMEZONE
BEGIN:VEVENT
DTSTART;TZID=America/New_York:20260511T000000
DTEND;TZID=America/New_York:20260612T235959
DTSTAMP:20260423T003336
CREATED:20260414T180013Z
LAST-MODIFIED:20260415T171456Z
UID:2089-1778457600-1781308799@festivallcharleston.com
SUMMARY:Show Your Pride Window Display Contest
DESCRIPTION:Show your pride!\nUsing the colors of the rainbow\, businesses throughout Charleston\, WV are invited to use their storefronts to turn the city into a work of art. These colorful storefronts will help us uplift the capital city\, shining a positive light on business\, art\, and Pride. \nPresented by: Rainbow Pride of West Virginia\nLocation: Various locations
URL:https://festivallcharleston.com/event/show-your-pride-window-display-contest-3/
LOCATION:Charleston\, WV\, Charleston\, WV\, United States
CATEGORIES:Local Art,other-events,visual arts
ATTACH;FMTTYPE=image/png:https://festivallcharleston.com/wp-content/uploads/2026/04/Screenshot-2026-04-06-at-10.58.37-AM.png
END:VEVENT
BEGIN:VEVENT
DTSTART;TZID=America/New_York:20260521T000000
DTEND;TZID=America/New_York:20260611T235959
DTSTAMP:20260423T003336
CREATED:20260414T180031Z
LAST-MODIFIED:20260415T172126Z
UID:2091-1779321600-1781222399@festivallcharleston.com
SUMMARY:Downtown Open
DESCRIPTION:Golf your way through downtown Charleston\, WV this summer!\nThe sidewalks of downtown Charleston are transformed into a one-of-a-kind miniature golf course that allows people to explore our downtown\, showcases regional\ncompanies and small businesses\, and provides free entertainment to friends and families. \n• Putters and balls are available at these locations: Taylor Books\, Adelphia Sports Bar & Grille\, Art Emporium\, and Tony the Tailor \nThis event is presented by the Charleston Area Alliance & Chamber of Commerce \n  \n• Sponsor: West Virginia International Yeager Airport\n• Location: Downtown Charleston\n• When: May 21 – June 11
URL:https://festivallcharleston.com/event/downtown-open-4/
LOCATION:Downtown Charleston
CATEGORIES:family-fun,Local Art,other-events
ATTACH;FMTTYPE=image/jpeg:https://festivallcharleston.com/wp-content/uploads/2026/04/golf-e1776273583325.jpg
END:VEVENT
BEGIN:VEVENT
DTSTART;TZID=America/New_York:20260530T000000
DTEND;TZID=America/New_York:20260731T235959
DTSTAMP:20260423T003336
CREATED:20260414T180012Z
LAST-MODIFIED:20260416T185741Z
UID:2104-1780099200-1785542399@festivallcharleston.com
SUMMARY:Kanawha County Public Library’s Summer Library Club
DESCRIPTION:Saturday\, May 30 – July 31\nSummer Library Club (May 30–July 31) is an eight-week program for all ages at all KCPL locations\, designed to build literacy and a lifelong love of reading. Kick off the season at the Main Library during FestivALL’s Children’s Art Fair\, featuring the Used Book Sale\, the Children’s Storywalk®\, games\, crafts\, and more. Full list of activities at kcpls.org \nLocation: Kanawha County Public Library\, 123 Capitol St.
URL:https://festivallcharleston.com/event/kanawha-county-public-librarys-summer-library-club/
LOCATION:Kanawha County Public Library
CATEGORIES:Literature,other-events
ATTACH;FMTTYPE=image/jpeg:https://festivallcharleston.com/wp-content/uploads/2026/04/Kanawha_Library_529-1-scaled.jpg
END:VEVENT
END:VCALENDAR