BEGIN:VCALENDAR
VERSION:2.0
PRODID:-//FestivALL - ECPv6.15.17.1//NONSGML v1.0//EN
CALSCALE:GREGORIAN
METHOD:PUBLISH
X-WR-CALNAME:FestivALL
X-ORIGINAL-URL:https://festivallcharleston.com
X-WR-CALDESC:Events for FestivALL
REFRESH-INTERVAL;VALUE=DURATION:PT1H
X-Robots-Tag:noindex
X-PUBLISHED-TTL:PT1H
BEGIN:VTIMEZONE
TZID:America/New_York
BEGIN:DAYLIGHT
TZOFFSETFROM:-0500
TZOFFSETTO:-0400
TZNAME:EDT
DTSTART:20250309T070000
END:DAYLIGHT
BEGIN:STANDARD
TZOFFSETFROM:-0400
TZOFFSETTO:-0500
TZNAME:EST
DTSTART:20251102T060000
END:STANDARD
BEGIN:DAYLIGHT
TZOFFSETFROM:-0500
TZOFFSETTO:-0400
TZNAME:EDT
DTSTART:20260308T070000
END:DAYLIGHT
BEGIN:STANDARD
TZOFFSETFROM:-0400
TZOFFSETTO:-0500
TZNAME:EST
DTSTART:20261101T060000
END:STANDARD
BEGIN:DAYLIGHT
TZOFFSETFROM:-0500
TZOFFSETTO:-0400
TZNAME:EDT
DTSTART:20270314T070000
END:DAYLIGHT
BEGIN:STANDARD
TZOFFSETFROM:-0400
TZOFFSETTO:-0500
TZNAME:EST
DTSTART:20271107T060000
END:STANDARD
END:VTIMEZONE
BEGIN:VEVENT
DTSTART;TZID=America/New_York:20260524T130000
DTEND;TZID=America/New_York:20260524T160000
DTSTAMP:20260425T103907
CREATED:20260414T180053Z
LAST-MODIFIED:20260416T175854Z
UID:2032-1779627600-1779638400@festivallcharleston.com
SUMMARY:Carriage Trail Walk
DESCRIPTION:Carriage Trail Walk\nSunday\, May 24 | 1-4pm\nEnjoy the arts outside during FestivALL. Experience the charm of the Sunrise Carriage Trail as you walk along the .65-mile trail\, taking in the sights and sounds of live music\, art\, dance\, and more. Enjoy artful dance performances produced by Carli Mareneck\, live music\, other performing artists\, and more. \nParticipating artisits included Brett Mahon\, Carli Merenick and Friends\, Xino’s\, Matt Malinoski\, Minor Swing\, Mell’s\, and Vandalia Musicians.  \nLocation: 746 Myrtle Rd\, Charleston\, WV 25314 \nTime: 1:00pm – 4:00pm \nCarriage Trail Walk is made possible by Charles & Mary Fayne Glotfelty Foundation and West Virginia Department of Tourism  \n \n 
URL:https://festivallcharleston.com/event/carriage-trail-walk/
LOCATION:Sunrise Carriage Trail\, 746 Myrtle Rd.\, Charleston\, WV\, 25314\, United States
CATEGORIES:dance,family-fun,Local Art,music,visual arts
ATTACH;FMTTYPE=image/jpeg:https://festivallcharleston.com/wp-content/uploads/2026/04/TRAIL_37-scaled.jpg
ORGANIZER;CN="FestivALL":MAILTO:director@festivallcharleston.com
END:VEVENT
END:VCALENDAR