BEGIN:VCALENDAR
VERSION:2.0
PRODID:-//FestivALL - ECPv6.15.17.1//NONSGML v1.0//EN
CALSCALE:GREGORIAN
METHOD:PUBLISH
X-WR-CALNAME:FestivALL
X-ORIGINAL-URL:https://festivallcharleston.com
X-WR-CALDESC:Events for FestivALL
REFRESH-INTERVAL;VALUE=DURATION:PT1H
X-Robots-Tag:noindex
X-PUBLISHED-TTL:PT1H
BEGIN:VTIMEZONE
TZID:America/New_York
BEGIN:DAYLIGHT
TZOFFSETFROM:-0500
TZOFFSETTO:-0400
TZNAME:EDT
DTSTART:20230312T070000
END:DAYLIGHT
BEGIN:STANDARD
TZOFFSETFROM:-0400
TZOFFSETTO:-0500
TZNAME:EST
DTSTART:20231105T060000
END:STANDARD
BEGIN:DAYLIGHT
TZOFFSETFROM:-0500
TZOFFSETTO:-0400
TZNAME:EDT
DTSTART:20240310T070000
END:DAYLIGHT
BEGIN:STANDARD
TZOFFSETFROM:-0400
TZOFFSETTO:-0500
TZNAME:EST
DTSTART:20241103T060000
END:STANDARD
BEGIN:DAYLIGHT
TZOFFSETFROM:-0500
TZOFFSETTO:-0400
TZNAME:EDT
DTSTART:20250309T070000
END:DAYLIGHT
BEGIN:STANDARD
TZOFFSETFROM:-0400
TZOFFSETTO:-0500
TZNAME:EST
DTSTART:20251102T060000
END:STANDARD
END:VTIMEZONE
BEGIN:VEVENT
DTSTART;TZID=America/New_York:20241011T180000
DTEND;TZID=America/New_York:20241011T220000
DTSTAMP:20260422T164209
CREATED:20250924T020258Z
LAST-MODIFIED:20250924T020258Z
UID:1721-1728669600-1728684000@festivallcharleston.com
SUMMARY:City Center Dead
DESCRIPTION:City Center Dead\n																										 \nFestivALL and Arts Amplified presents: City Center Dead!\nFriday\, October 11 at 6pmLocation: Slack Plaza at City Center \nJoin John Inghram\,  Eric Weingrad\, Brandon Bowlds and Brad Goodall for a FREE night of Grateful Dead hits at City Center at Slack Plaza. Food trucks and activities on-site. \nEnjoy this evening of live music at the City Center at Slack Plaza. \nHave a few minutes to help us out? We’d love to hear from you! Take our survey below – and of course want to hear more about any event ideas and what you’d like to see at future FestivALL events!
URL:https://festivallcharleston.com/event/city-center-dead-2/
LOCATION:Slack Plaza\, City Center\, 177 Summers Street\, Charleston\, West Virginia
CATEGORIES:family-fun,music
ATTACH;FMTTYPE=:
END:VEVENT
BEGIN:VEVENT
DTSTART;TZID=America/New_York:20241017T000000
DTEND;TZID=America/New_York:20241020T235959
DTSTAMP:20260422T164209
CREATED:20250924T020310Z
LAST-MODIFIED:20250924T020310Z
UID:1739-1729123200-1729468799@festivallcharleston.com
SUMMARY:FestivFALL Art Scavenger Hunt
DESCRIPTION:FestivALL Art Scavenger Hunt\n																										 \nCan YOU solve the riddles? \nFrom Oct. 17-20\, FestivFALL and Arts Amplified will hide pieces of art created by local artists throughout Charleston! \nFollow FestivALL and Arts Amplified on Facebook\, and get a clue at 8am each morning to help you find the hidden artwork. The first person to find the artwork gets to keep it! 
URL:https://festivallcharleston.com/event/festivfall-art-scavenger-hunt/
CATEGORIES:family-fun,Local Art,other-events
ATTACH;FMTTYPE=:
ORGANIZER;CN="FestivALL":MAILTO:director@festivallcharleston.com
END:VEVENT
BEGIN:VEVENT
DTSTART;TZID=America/New_York:20241017T170000
DTEND;TZID=America/New_York:20241017T200000
DTSTAMP:20260422T164209
CREATED:20250924T020305Z
LAST-MODIFIED:20250924T020305Z
UID:1732-1729184400-1729195200@festivallcharleston.com
SUMMARY:Downtown Charleston ArtWalk
DESCRIPTION:Downtown Charleston ArtWalk\n												\n		Enjoy Charleston’s free\, premiere art event that brings you fine art\, fashion\, crafts\, antiques\, food and much more! Wander through shops\, galleries\, and businesses along Quarrier\, Capitol\, Lee\, Summers\, and Hale Streets\, and discover regional art\, performances\, and unique finds.   \nDate: Thursday\, October 17 \nTime: 5-8pm
URL:https://festivallcharleston.com/event/downtown-charleston-artwalk/
LOCATION:Downtown Charleston
CATEGORIES:family-fun,Local Art
ATTACH;FMTTYPE=:
END:VEVENT
BEGIN:VEVENT
DTSTART;TZID=America/New_York:20241019T090000
DTEND;TZID=America/New_York:20241019T170000
DTSTAMP:20260422T164209
CREATED:20250924T020306Z
LAST-MODIFIED:20250924T020306Z
UID:1733-1729328400-1729357200@festivallcharleston.com
SUMMARY:West Virginia Book Festival
DESCRIPTION:West Virginia Book Festival\n \nThe West Virginia Book Festival is a free annual event for book lovers of all ages. \nFeaturing programs by local and international bestselling authors such as Joy Callaway\, Gregg Hurwitz\, Sadeqa Johnson\, Gene Luen Yang\, and Mia Manansala. In addition to this\, enjoy the Used Book Sale and a Festival Marketplace. \nLOCATION: Charleston Coliseum & Convention Center\n9am-5pm \n\nCLICK HERE TO SEE THE FULL SCHEDULE
URL:https://festivallcharleston.com/event/west-virginia-book-festival/
LOCATION:Charleston Coliseum & Convention Center Theater\, 200 Civic Center Drive\, Charleston\, WV\, 25301
CATEGORIES:family-fun,Literature
ATTACH;FMTTYPE=:
ORGANIZER;CN="FestivALL":MAILTO:director@festivallcharleston.com
END:VEVENT
BEGIN:VEVENT
DTSTART;TZID=America/New_York:20241020T130000
DTEND;TZID=America/New_York:20241020T160000
DTSTAMP:20260422T164209
CREATED:20250924T020259Z
LAST-MODIFIED:20250924T020259Z
UID:1725-1729429200-1729440000@festivallcharleston.com
SUMMARY:Spring Hill Cemetery: History Comes Alive!
DESCRIPTION:Spring Hill Cemetery: History Comes Alive!\n \nHistory will come alive at Spring Hill Cemetery during FestivFALL! \nFriends of Spring Hill Cemetery Park and Arboretum annual multi-faceted celebration of the wonder and awe of Spring Hill. \nDiscover Charleston’s rich history on a self-guided walk through the beautiful Cemetery Grounds where you can enjoy magnificent views and interactive entertainment along the way. \nAlso enjoy live music\, and refreshments from the Mountain Juice Co. \nLeashed dogs are welcome! \nSee Trolley shuttle details below. \nAlong the route:\n– Reenactors will tell stories of historic Charleston. \n– Meet Larry Rowe\, author of ‘Virginia Slavery and King Salt in Booker T. Washington’s Boyhood Home’ \n– Learn about Charleston’s Craik-Patton House and Daughters of American Revolution. \n– Participate in a commemorative tree planting with the Sons of the American Revolution. \n– Take in the parks’ charming and plentiful wildlife with flora and fauna experts. \nClick here for more info about Spring Hill Cemetery Park \nLike ‘Friends of Spring Hill Park and Arboretum’ on Facebook for Event and Cemetery Updates. \nKRT will also provide a bus shuttle that will run from the Carriage Trail Leaf Walk to Spring Hill Cemetery. This will run on a loop from 1-4pm. \nHave a few minutes to help us out? We’d love to hear from you! Take our survey below – and of course want to hear more about any event ideas and what you’d like to see at future FestivALL events! \n\nSurvey Coming Soon\n \nWant to volunteer for this event?\n\n\nVolunteer Sign Ups Coming Soon
URL:https://festivallcharleston.com/event/spring-hill-cemetery-history-comes-alive/
LOCATION:Spring Hill Cemetery & Arboretum\, 1555 Farnsworth Drive\, Charleston\, WV\, 25301\, United States
CATEGORIES:family-fun,other-events
ATTACH;FMTTYPE=:
END:VEVENT
BEGIN:VEVENT
DTSTART;TZID=America/New_York:20241020T130000
DTEND;TZID=America/New_York:20241020T160000
DTSTAMP:20260422T164209
CREATED:20250924T020300Z
LAST-MODIFIED:20250924T020300Z
UID:1726-1729429200-1729440000@festivallcharleston.com
SUMMARY:Carriage Trail Leaf Walk
DESCRIPTION:Carriage Trail Leaf Walk\n																										 \n Sunday\, October 20\, 2024 from 1-4pm \nEnjoy the arts outside during FestivFALL. Experience the charm of the Sunrise Carriage Trail amid fall foliage as you walk along the .65 mile trail taking in the sites and sounds of live music\, art\, dance\, and more. \nEnjoy vignettes by Carli MarineckLive music TBAVisual art by Brianna Taftand more! \nBe aware that the trail is a wide gravel way approximately one half mile long and has a moderately steep incline. \nDogs on leashes are welcome. \nLocation/Parking: Sunrise Carriage Trail\, 746 Myrtle Rd. Parking is limited. We recommend parking at Farmer\, Cline\, Campbell PLLC at the top of the trail or across the bridge in downtown Charleston. \nParking is limited at the bottom of  top of the trail\, but a trolley will run continuously from 12:45PM-4:15PM taking attendees from the top of the Carriage Trail to the Founders Day Program at Springhill Cemetery before looping back through and stopping on Capitol Street. \n  \nThank You To Our Sponsors\n\n\n\n\n												Previous\n												Next\n			\n						Survey Coming Soon\n					 \nWant to volunteer for this event?\n \n		\n			\n						Volunteer Sign Ups Coming Soon
URL:https://festivallcharleston.com/event/carriage-trail-leaf-walk/
LOCATION:Sunrise Carriage Trail\, 746 Myrtle Rd.\, Charleston\, WV\, 25314\, United States
CATEGORIES:dance,family-fun,Local Art,music,theatre,visual arts
ATTACH;FMTTYPE=:
ORGANIZER;CN="FestivALL":MAILTO:director@festivallcharleston.com
END:VEVENT
BEGIN:VEVENT
DTSTART;TZID=America/New_York:20241020T133000
DTEND;TZID=America/New_York:20241020T150000
DTSTAMP:20260422T164209
CREATED:20250924T020259Z
LAST-MODIFIED:20250924T020259Z
UID:1724-1729431000-1729436400@festivallcharleston.com
SUMMARY:2024 Art-for-FALL Teen Juried Art Exhibition Awards Ceremony
DESCRIPTION:FestivALL presents Art-for-FALL Teen Juried Art Exhibition Awards Ceremony at Haddad Riverfront Park! Attendees will experience talent from budding artists in grades 7th through 12th from 13 West Virginia counties. \nThis awards ceremony will recognize all the participants and winners of this 13-county teen juried art exhibition. \nOct. 20\, 1:30pmClay Center Sculpture Garden\, 1 Clay Square \nThank you to our generous sponsors\n\n\n\n												Previous\n												Next \nHave a few minutes to help us out? We’d love to hear from you! Take our survey below – and of course want to hear more about any event ideas and what you’d like to see at future FestivALL events! \n			\n						Survey Coming Soon\n					 \nWant to volunteer for this event?\n \n		\n			\n						Volunteer Signups Coming Soon
URL:https://festivallcharleston.com/event/2024-art-for-fall-teen-juried-art-exhibition-awards-ceremony/
LOCATION:The Clay Center Sculpture Garden\, 1 Clay Square\, Charleston\, WV\, United States
CATEGORIES:family-fun,Local Art,visual arts
ATTACH;FMTTYPE=:
ORGANIZER;CN="FestivALL":MAILTO:director@festivallcharleston.com
END:VEVENT
END:VCALENDAR