BEGIN:VCALENDAR
VERSION:2.0
PRODID:-//FestivALL - ECPv6.15.17.1//NONSGML v1.0//EN
CALSCALE:GREGORIAN
METHOD:PUBLISH
X-ORIGINAL-URL:https://festivallcharleston.com
X-WR-CALDESC:Events for FestivALL
REFRESH-INTERVAL;VALUE=DURATION:PT1H
X-Robots-Tag:noindex
X-PUBLISHED-TTL:PT1H
BEGIN:VTIMEZONE
TZID:America/New_York
BEGIN:DAYLIGHT
TZOFFSETFROM:-0500
TZOFFSETTO:-0400
TZNAME:EDT
DTSTART:20250309T070000
END:DAYLIGHT
BEGIN:STANDARD
TZOFFSETFROM:-0400
TZOFFSETTO:-0500
TZNAME:EST
DTSTART:20251102T060000
END:STANDARD
BEGIN:DAYLIGHT
TZOFFSETFROM:-0500
TZOFFSETTO:-0400
TZNAME:EDT
DTSTART:20260308T070000
END:DAYLIGHT
BEGIN:STANDARD
TZOFFSETFROM:-0400
TZOFFSETTO:-0500
TZNAME:EST
DTSTART:20261101T060000
END:STANDARD
BEGIN:DAYLIGHT
TZOFFSETFROM:-0500
TZOFFSETTO:-0400
TZNAME:EDT
DTSTART:20270314T070000
END:DAYLIGHT
BEGIN:STANDARD
TZOFFSETFROM:-0400
TZOFFSETTO:-0500
TZNAME:EST
DTSTART:20271107T060000
END:STANDARD
END:VTIMEZONE
BEGIN:VEVENT
DTSTART;TZID=America/New_York:20260524T140000
DTEND;TZID=America/New_York:20260524T170000
DTSTAMP:20260423T091613
CREATED:20260414T180031Z
LAST-MODIFIED:20260416T191512Z
UID:2034-1779631200-1779642000@festivallcharleston.com
SUMMARY:"10-Alarm Fire: We Won't Shut Up!!" film screening with Young@Heart director Bob Cilman
DESCRIPTION:Sunday\, May 24 | 2pm \nThis concert film features protest music through the ages and around the world\, performed by Young@Heart’s chorus of senior citizen singers as they explore free speech and democracy though the lens of aging. Chorus founder and director Bob Cilman will be on hand to talk about his music ensemble and introduce the film. \nProduced by FestivALL and The West Virginia Music Hall of Fame \nLocation: West Virginia Music Hall of Fame\, Charleston Town Center Mall\, Second Floor\, 3000 Charleston Town Center \nTime: 2:00pm \n 
URL:https://festivallcharleston.com/event/10-alarm-fire-we-wont-shut-up-film-screening-with-youngheart-director-bob-cilman/
LOCATION:Charleston Town Center\, 3000 CHARLESTON TOWN CENTER\, Charleston\, WV\, 25389\, United States
CATEGORIES:Film,Local Art,music,visual arts
ATTACH;FMTTYPE=image/png:https://festivallcharleston.com/wp-content/uploads/2026/04/Screenshot-2026-04-03-at-2.28.03-PM.png
END:VEVENT
END:VCALENDAR