BEGIN:VCALENDAR
VERSION:2.0
PRODID:-//FestivALL - ECPv6.15.17.1//NONSGML v1.0//EN
CALSCALE:GREGORIAN
METHOD:PUBLISH
X-ORIGINAL-URL:https://festivallcharleston.com
X-WR-CALDESC:Events for FestivALL
REFRESH-INTERVAL;VALUE=DURATION:PT1H
X-Robots-Tag:noindex
X-PUBLISHED-TTL:PT1H
BEGIN:VTIMEZONE
TZID:America/New_York
BEGIN:DAYLIGHT
TZOFFSETFROM:-0500
TZOFFSETTO:-0400
TZNAME:EDT
DTSTART:20210314T070000
END:DAYLIGHT
BEGIN:STANDARD
TZOFFSETFROM:-0400
TZOFFSETTO:-0500
TZNAME:EST
DTSTART:20211107T060000
END:STANDARD
BEGIN:DAYLIGHT
TZOFFSETFROM:-0500
TZOFFSETTO:-0400
TZNAME:EDT
DTSTART:20220313T070000
END:DAYLIGHT
BEGIN:STANDARD
TZOFFSETFROM:-0400
TZOFFSETTO:-0500
TZNAME:EST
DTSTART:20221106T060000
END:STANDARD
BEGIN:DAYLIGHT
TZOFFSETFROM:-0500
TZOFFSETTO:-0400
TZNAME:EDT
DTSTART:20230312T070000
END:DAYLIGHT
BEGIN:STANDARD
TZOFFSETFROM:-0400
TZOFFSETTO:-0500
TZNAME:EST
DTSTART:20231105T060000
END:STANDARD
END:VTIMEZONE
BEGIN:VEVENT
DTSTART;TZID=America/New_York:20221009T190000
DTEND;TZID=America/New_York:20221009T214500
DTSTAMP:20260423T115320
CREATED:20250924T020120Z
LAST-MODIFIED:20250924T020120Z
UID:1535-1665342000-1665351900@festivallcharleston.com
SUMMARY:Mountain Stage 1\,000th Episode with Sonny Landreth & Cindy Cashdollar\, Parker Millsap\, Lucy Kaplansky\, Caleb Caudle\, and The Paranoid Style
DESCRIPTION:Be a part of the live audience as Mountain Stage records a fresh episode for NPR Music!\nThis episode of Mountain Stage is hosted by guest host Larry Groce and features  Sonny Landreth & Cindy Cashdollar\, Parker Millsap\, Lucy Kaplansky\, Caleb Caudle\, and The Paranoid Style. \n			\n						CLICK HERE FOR TICKETS\n					 \nMore details below \nTicket Info\nAll tickets to this show are e-tickets\, and will be emailed to you upon purchase. Open up the pdf and the QR code on your ticket will be scanned at the door. This event will also be offered as a livestream. \n  \nWatch the Livestream!\nMountain Stage livestreams are free\, however there are some incredible folks out there who’d like to show their support through a donation-based\, pay what you want ”ticket” for the livestream. This is a donation-based “ticket” to show some love for the program and is not a ticket to the live event. \nYou’ll be able to catch the show from the comfort of your home (or wherever you wish) Sunday\, October 9\, 2022 –  at 7 PM ET at mountainstage.org \n\n				\n				Guest Host Larry Groce\n				\n\n				\n				Sonny Landreth + Cindy Cashdollar\n				\n\n				\n				Parker Millsap\n				\n\n				\n				Lucy Kaplansky\n				\nThanks to our generous sponsors!\n\n\n\n\n												Previous\n												Next \nIf you have questions or concerns\, please reach out to live@mountainstage.org \nHave a few minutes to help us out? We’d love to hear from you! Take our survey below – and of course want to hear more about any event ideas and what you’d like to see at future FestivALL events! \n			\n						Take our survey
URL:https://festivallcharleston.com/event/sonny-landreth-cindy-cashdollar-parker-millsap-lucy-kaplansky-caleb-caudle-and-the-paranoid-style-on-mountain-stage/
LOCATION:The Culture Center\, 1900 Kanawha Blvd E\, Charleston\, WV\, 25301\, United States
CATEGORIES:music
ATTACH;FMTTYPE=:
END:VEVENT
END:VCALENDAR