BEGIN:VCALENDAR
VERSION:2.0
PRODID:-//FestivALL - ECPv6.15.17.1//NONSGML v1.0//EN
CALSCALE:GREGORIAN
METHOD:PUBLISH
X-ORIGINAL-URL:https://festivallcharleston.com
X-WR-CALDESC:Events for FestivALL
REFRESH-INTERVAL;VALUE=DURATION:PT1H
X-Robots-Tag:noindex
X-PUBLISHED-TTL:PT1H
BEGIN:VTIMEZONE
TZID:America/New_York
BEGIN:DAYLIGHT
TZOFFSETFROM:-0500
TZOFFSETTO:-0400
TZNAME:EDT
DTSTART:20220313T070000
END:DAYLIGHT
BEGIN:STANDARD
TZOFFSETFROM:-0400
TZOFFSETTO:-0500
TZNAME:EST
DTSTART:20221106T060000
END:STANDARD
BEGIN:DAYLIGHT
TZOFFSETFROM:-0500
TZOFFSETTO:-0400
TZNAME:EDT
DTSTART:20230312T070000
END:DAYLIGHT
BEGIN:STANDARD
TZOFFSETFROM:-0400
TZOFFSETTO:-0500
TZNAME:EST
DTSTART:20231105T060000
END:STANDARD
BEGIN:DAYLIGHT
TZOFFSETFROM:-0500
TZOFFSETTO:-0400
TZNAME:EDT
DTSTART:20240310T070000
END:DAYLIGHT
BEGIN:STANDARD
TZOFFSETFROM:-0400
TZOFFSETTO:-0500
TZNAME:EST
DTSTART:20241103T060000
END:STANDARD
END:VTIMEZONE
BEGIN:VEVENT
DTSTART;TZID=America/New_York:20230609T000000
DTEND;TZID=America/New_York:20230618T235959
DTSTAMP:20260423T073646
CREATED:20250924T020001Z
LAST-MODIFIED:20250924T020001Z
UID:1424-1686268800-1687132799@festivallcharleston.com
SUMMARY:FestivALL Porch Parade
DESCRIPTION:A vibrant celebration of the creativity and spirit of FestivALL showcases a Parade of Porches! Local artists have been commissioned to create larger-than-life art installations at homes and businesses in the East End. Check out the Porch Parade map to create your own parade route.  \nNeighborhood stoops\, porches and yards will turn into into works of art with stationary “floats”!  \nThese “floats” will be commissioned by a variety of local artists\, and community members are encouraged to decorate their homes with festive decorations to enhance to overall experience. \nParade goers can choose to drive or walk as they enjoy the FestivALL Porch Parade. \n  \n2023 Porch Parade Artists: Caroline Murphy\, Liz Pavlovic\, Vasilia Scouras & Jeff Pierson\, Brianna Taft\, Elizabeth Turner and more! \nWhere does the parade take place?\n For 2023\, the commissioned “floats” will be concentrated on the East End of Charleston\, WV. \nDid you know that the 1500 Block of Quarrier St. used to be the longest block in the United States? \n																										 \nWant to explore more of Charleston’s public art? Take a look at this City of Charleston public art map!\n			\n						PUBLIC ART TOURS\n					\n																										 \nThank you to ourgenerous sponsors\n\n\n												Previous\n												Next \nHave a few minutes to help us out? We’d love to hear from you! Take our survey below – and of course want to hear more about any event ideas and what you’d like to see at future FestivALL events! \n			\n						Take our survey
URL:https://festivallcharleston.com/event/porchparade/
LOCATION:Charleston\, WV\, Charleston\, WV\, United States
CATEGORIES:family-fun,Local Art,music,visual arts
ATTACH;FMTTYPE=:
ORGANIZER;CN="FestivALL":MAILTO:director@festivallcharleston.com
END:VEVENT
BEGIN:VEVENT
DTSTART;TZID=America/New_York:20230610T100000
DTEND;TZID=America/New_York:20230610T110000
DTSTAMP:20260423T073646
CREATED:20250924T020137Z
LAST-MODIFIED:20250924T020137Z
UID:1544-1686391200-1686394800@festivallcharleston.com
SUMMARY:FestivALL Art Parade
DESCRIPTION:The FestivALL Art Parade is BACK on June 10 and what would be better than to have all of our partners join us down Capitol Street for a parade celebrating the arts in our community?\nWe want to see your most colorful\, musical and funky sides! Feel free to dress up in your most creative outfits/costumes/masks and decorate a float\, vehicle or walk in the parade. Play music\, dance\, sing or all of the above!\n\nREGISTER HERE!\n \nWhere does the parade take place?\nStart: 400 Block of Capitol Street \nEnd: Capitol Market\, 800 Smith Street \n \nWant to explore more of Charleston’s public art? Take a look at this City of Charleston public art map!\n\nPUBLIC ART TOURS\n\n \nThank you to our\ngenerous sponsors\n\n\nPrevious\nNext \nHave a few minutes to help us out? We’d love to hear from you! Take our survey below – and of course want to hear more about any event ideas and what you’d like to see at future FestivALL events! \n\nTake our survey
URL:https://festivallcharleston.com/event/festivall-art-parade/
LOCATION:Charleston\, WV\, Charleston\, WV\, United States
CATEGORIES:family-fun,Local Art,music,visual arts
ATTACH;FMTTYPE=:
ORGANIZER;CN="FestivALL":MAILTO:director@festivallcharleston.com
END:VEVENT
BEGIN:VEVENT
DTSTART;TZID=America/New_York:20230610T193000
DTEND;TZID=America/New_York:20230610T213000
DTSTAMP:20260423T073646
CREATED:20250924T020044Z
LAST-MODIFIED:20250924T020044Z
UID:1471-1686425400-1686432600@festivallcharleston.com
SUMMARY:Sound Checks: Shelem's Album Preview Show
DESCRIPTION:SOUND CHECKS – DON’T MISS CHARLESTON’S HOTTEST LIVE MUSIC SERIES! \nNobody brings you closer to today’s rising stars than Sound Checks. We invite you to join the party\, step on to the Clay Center stage\, and enjoy the best music from local and national emerging artists. Be a part of the scene at Sound Checks! \nIsaac Shelem Fadiga\, known by his mononym Shelem is a 25-year-old hip-hop artist and producer. A self-proclaimed true entertainer\, his primary focus has always been to bring levity and good times into the lives of his audience. He strives to create a magnificent experience with every song\, performance\, video\, and interaction. Born in Silver Spring\, MD to parents from the Ivory Coast in West Africa\, he began producing\, writing\, and recording his own songs at age 14.   \nShelem \n			\n						CLICK HERE FOR TICKETS\n					 \n\n            Sponsored by\n			        \n		                     \n\n\n\n\n\n\n\n												Previous\n												Next \nHave a few minutes to help us out? We’d love to hear from you! Take our survey below – and of course want to hear more about any event ideas and what you’d like to see at future FestivALL events! \n			\n						Take Our Survey!
URL:https://festivallcharleston.com/event/sound-checks-with-shelem/
LOCATION:The Clay Center\, 1 Clay Square\, Charleston\, WV\, 25301\, United States
CATEGORIES:music
ATTACH;FMTTYPE=:
END:VEVENT
END:VCALENDAR