BEGIN:VCALENDAR
VERSION:2.0
PRODID:-//FestivALL - ECPv6.15.17.1//NONSGML v1.0//EN
CALSCALE:GREGORIAN
METHOD:PUBLISH
X-ORIGINAL-URL:https://festivallcharleston.com
X-WR-CALDESC:Events for FestivALL
REFRESH-INTERVAL;VALUE=DURATION:PT1H
X-Robots-Tag:noindex
X-PUBLISHED-TTL:PT1H
BEGIN:VTIMEZONE
TZID:America/New_York
BEGIN:DAYLIGHT
TZOFFSETFROM:-0500
TZOFFSETTO:-0400
TZNAME:EDT
DTSTART:20230312T070000
END:DAYLIGHT
BEGIN:STANDARD
TZOFFSETFROM:-0400
TZOFFSETTO:-0500
TZNAME:EST
DTSTART:20231105T060000
END:STANDARD
BEGIN:DAYLIGHT
TZOFFSETFROM:-0500
TZOFFSETTO:-0400
TZNAME:EDT
DTSTART:20240310T070000
END:DAYLIGHT
BEGIN:STANDARD
TZOFFSETFROM:-0400
TZOFFSETTO:-0500
TZNAME:EST
DTSTART:20241103T060000
END:STANDARD
BEGIN:DAYLIGHT
TZOFFSETFROM:-0500
TZOFFSETTO:-0400
TZNAME:EDT
DTSTART:20250309T070000
END:DAYLIGHT
BEGIN:STANDARD
TZOFFSETFROM:-0400
TZOFFSETTO:-0500
TZNAME:EST
DTSTART:20251102T060000
END:STANDARD
END:VTIMEZONE
BEGIN:VEVENT
DTSTART;TZID=America/New_York:20241011T190000
DTEND;TZID=America/New_York:20241011T203000
DTSTAMP:20260419T130201
CREATED:20250924T020311Z
LAST-MODIFIED:20250924T020311Z
UID:1741-1728673200-1728678600@festivallcharleston.com
SUMMARY:CYAC presents Why We Stayed
DESCRIPTION:CYAC presents Why We Stayed\nThe Forgotten Victims of Domestic Violence Speak\n \nPresented by Contemporary Youth Arts Company in partnership with the YWCA Resolve Family Abuse Program    \nWhy We Stayed: The Forgotten Victims of Domestic Violence Speak shows 20 characters in crisis as they each face their own situations of domestic violence. These hard-hitting portrayals of men and women tell the forgotten and ignored stories of the day-to-day survival of America’s silent victims. From the mother-to-be to the mother-in-law\, the jaded cop to the devastated BCS worker to the nurse and the convict and the women of society and poverty and your next door neighbor\, the characters preach truth to society’s conveniently deafened ears. \nFeaturing the talents of actors Kayla Skidmore\, Amanda Skidmore\, Kaye Maertz\, Meredith Clark\, Rob Royce\, La’Mera Rice\, Desirae Rucker\, Bill Myers\,Sarah Schoolcraft\, Linda O’Neil\, Morgan Kirk\, Ariel Dobbins\, Erin Martin and Jack Rogers \nADVISORY: This piece is rated PG 13 due to mature language and subject material. \nShowtimes:\nFriday\, Oct. 11 at 7pm\nSaturday\, Oct. 12 at 7pm\nSunday\, Oct. 13 at 2pm \nLocation: Elk City Playhouse\, 218 Washington St. E \nTickets: $15 (Adults) $10 (Students/Seniors)\nAvailable at the door and online. \n\nONLINE TICKETS COMING SOON
URL:https://festivallcharleston.com/event/cyac-presents-why-we-stayed/
LOCATION:Elk City Playhouse\, 218 W. Washington Street\, Charleston\, WV\, 25302\, United States
CATEGORIES:theatre
ATTACH;FMTTYPE=:
END:VEVENT
BEGIN:VEVENT
DTSTART;TZID=America/New_York:20241012T190000
DTEND;TZID=America/New_York:20241012T203000
DTSTAMP:20260419T130201
CREATED:20250924T020311Z
LAST-MODIFIED:20250924T020311Z
UID:1742-1728759600-1728765000@festivallcharleston.com
SUMMARY:CYAC presents Why We Stayed
DESCRIPTION:CYAC presents Why We Stayed\nThe Forgotten Victims of Domestic Violence Speak\n \nPresented by Contemporary Youth Arts Company in partnership with the YWCA Resolve Family Abuse Program    \nWhy We Stayed: The Forgotten Victims of Domestic Violence Speak shows 20 characters in crisis as they each face their own situations of domestic violence. These hard-hitting portrayals of men and women tell the forgotten and ignored stories of the day-to-day survival of America’s silent victims. From the mother-to-be to the mother-in-law\, the jaded cop to the devastated BCS worker to the nurse and the convict and the women of society and poverty and your next door neighbor\, the characters preach truth to society’s conveniently deafened ears. \nFeaturing the talents of actors Kayla Skidmore\, Amanda Skidmore\, Kaye Maertz\, Meredith Clark\, Rob Royce\, La’Mera Rice\, Desirae Rucker\, Bill Myers\, Sarah Schoolcraft\, Linda O’Neil\, Morgan Kirk\, Ariel Dobbins\, Erin Martin and Jack Rogers \nADVISORY: This piece is rated PG 13 due to mature language and subject material. \nShowtimes:\nFriday\, Oct. 11 at 7pm\nSaturday\, Oct. 12 at 7pm\nSunday\, Oct. 13 at 2pm \nLocation: Elk City Playhouse\, 218 Washington St. E \nTickets: $15 (Adults) $10 (Students/Seniors)\nAvailable at the door and online. \n\nONLINE TICKETS COMING SOON
URL:https://festivallcharleston.com/event/cyac-presents-why-we-stayed-2/
LOCATION:Elk City Playhouse\, 218 W. Washington Street\, Charleston\, WV\, 25302\, United States
CATEGORIES:theatre
ATTACH;FMTTYPE=:
END:VEVENT
BEGIN:VEVENT
DTSTART;TZID=America/New_York:20241013T140000
DTEND;TZID=America/New_York:20241013T153000
DTSTAMP:20260419T130201
CREATED:20250924T020312Z
LAST-MODIFIED:20250924T020312Z
UID:1743-1728828000-1728833400@festivallcharleston.com
SUMMARY:CYAC presents Why We Stayed
DESCRIPTION:CYAC presents Why We Stayed\nThe Forgotten Victims of Domestic Violence Speak\n \nPresented by Contemporary Youth Arts Company in partnership with the YWCA Resolve Family Abuse Program    \nWhy We Stayed: The Forgotten Victims of Domestic Violence Speak shows 20 characters in crisis as they each face their own situations of domestic violence. These hard-hitting portrayals of men and women tell the forgotten and ignored stories of the day-to-day survival of America’s silent victims. From the mother-to-be to the mother-in-law\, the jaded cop to the devastated BCS worker to the nurse and the convict and the women of society and poverty and your next door neighbor\, the characters preach truth to society’s conveniently deafened ears. \nFeaturing the talents of actors Kayla Skidmore\, Amanda Skidmore\, Kaye Maertz\, Meredith Clark\, Rob Royce\, La’Mera Rice\, Desirae Rucker\, Bill Myers\, Sarah Schoolcraft\, Linda O’Neil\, Morgan Kirk\, Ariel Dobbins\, Erin Martin and Jack Rogers \nADVISORY: This piece is rated PG 13 due to mature language and subject material. \nShowtimes:\nFriday\, Oct. 11 at 7pm\nSaturday\, Oct. 12 at 7pm\nSunday\, Oct. 13 at 2pm \nLocation: Elk City Playhouse\, 218 Washington St. E \nTickets: $15 (Adults) $10 (Students/Seniors)\nAvailable at the door and online. \n\nONLINE TICKETS COMING SOON
URL:https://festivallcharleston.com/event/cyac-presents-why-we-stayed-3/
LOCATION:Elk City Playhouse\, 218 W. Washington Street\, Charleston\, WV\, 25302\, United States
CATEGORIES:theatre
ATTACH;FMTTYPE=:
END:VEVENT
BEGIN:VEVENT
DTSTART;TZID=America/New_York:20241018T190000
DTEND;TZID=America/New_York:20241018T203000
DTSTAMP:20260419T130201
CREATED:20250924T020322Z
LAST-MODIFIED:20250924T020322Z
UID:1745-1729278000-1729283400@festivallcharleston.com
SUMMARY:Alban Arts Center presents 'Steel Magnolias'
DESCRIPTION:Alban Arts Center presents ‘Steel Magnolias’\n																										 \nThe Alban Arts Center proudly presents Steel Magnolias.“Steel Magnolias” is a heartfelt and humorous play written by Robert Harling. Set in a small Louisiana town\, the play centers around a close-knit group of Southern women who gather regularly at a local beauty salon run by the no-nonsense Truvy Jones. The story unfolds over a span of about three years\, showcasing the daily lives\, struggles\, and triumphs of these strong\, resilient women. \nThe play explores themes of friendship\, family\, and the complexities of life through a series of poignant and often humorous scenes. The title itself reflects the essence of the characters: “Steel” symbolizes their strength and resilience\, while “Magnolias” represents their delicate and nurturing nature.Through its blend of humor and emotional depth\, “Steel Magnolias” highlights the power of female friendship and the enduring support these women provide each other through life’s ups and downs. The play has been celebrated for its authentic portrayal of Southern life and its ability to resonate with audiences through its relatable characters and heartfelt storytelling. \nLocation: The Capitol Theater\, 123 Summers St. \nTickets: $15 advance/$20 at the doorAll AgesAlban Arts Center: albanartscenter.com \n			\n						CLICK HERE FOR TICKETS
URL:https://festivallcharleston.com/event/alban-arts-center-presents-steel-magnolias/
LOCATION:The Capitol Theater\, 123 Summers St.\, Charleston\, WV\, United States
CATEGORIES:theatre
END:VEVENT
BEGIN:VEVENT
DTSTART;TZID=America/New_York:20241019T190000
DTEND;TZID=America/New_York:20241019T190000
DTSTAMP:20260419T130201
CREATED:20250924T020322Z
LAST-MODIFIED:20250924T020322Z
UID:1746-1729364400-1729364400@festivallcharleston.com
SUMMARY:Alban Arts Center presents 'Steel Magnolias'
DESCRIPTION:Alban Arts Center presents ‘Steel Magnolias’\n \nThe Alban Arts Center proudly presents Steel Magnolias.\n“Steel Magnolias” is a heartfelt and humorous play written by Robert Harling. Set in a small Louisiana town\, the play centers around a close-knit group of Southern women who gather regularly at a local beauty salon run by the no-nonsense Truvy Jones. The story unfolds over a span of about three years\, showcasing the daily lives\, struggles\, and triumphs of these strong\, resilient women. \nThe play explores themes of friendship\, family\, and the complexities of life through a series of poignant and often humorous scenes. The title itself reflects the essence of the characters: “Steel” symbolizes their strength and resilience\, while “Magnolias” represents their delicate and nurturing nature.\nThrough its blend of humor and emotional depth\, “Steel Magnolias” highlights the power of female friendship and the enduring support these women provide each other through life’s ups and downs. The play has been celebrated for its authentic portrayal of Southern life and its ability to resonate with audiences through its relatable characters and heartfelt storytelling. \nLocation: The Capitol Theater\, 123 Summers St. \nTickets: $15 advance/$20 at the door\nAll Ages\nAlban Arts Center: albanartscenter.com \n\nCLICK HERE FOR TICKETS
URL:https://festivallcharleston.com/event/alban-arts-center-presents-steel-magnolias-2/
LOCATION:The Capitol Theater\, 123 Summers St.\, Charleston\, WV\, United States
CATEGORIES:theatre
ATTACH;FMTTYPE=:
END:VEVENT
BEGIN:VEVENT
DTSTART;TZID=America/New_York:20241020T130000
DTEND;TZID=America/New_York:20241020T160000
DTSTAMP:20260419T130201
CREATED:20250924T020300Z
LAST-MODIFIED:20250924T020300Z
UID:1726-1729429200-1729440000@festivallcharleston.com
SUMMARY:Carriage Trail Leaf Walk
DESCRIPTION:Carriage Trail Leaf Walk\n																										 \n Sunday\, October 20\, 2024 from 1-4pm \nEnjoy the arts outside during FestivFALL. Experience the charm of the Sunrise Carriage Trail amid fall foliage as you walk along the .65 mile trail taking in the sites and sounds of live music\, art\, dance\, and more. \nEnjoy vignettes by Carli MarineckLive music TBAVisual art by Brianna Taftand more! \nBe aware that the trail is a wide gravel way approximately one half mile long and has a moderately steep incline. \nDogs on leashes are welcome. \nLocation/Parking: Sunrise Carriage Trail\, 746 Myrtle Rd. Parking is limited. We recommend parking at Farmer\, Cline\, Campbell PLLC at the top of the trail or across the bridge in downtown Charleston. \nParking is limited at the bottom of  top of the trail\, but a trolley will run continuously from 12:45PM-4:15PM taking attendees from the top of the Carriage Trail to the Founders Day Program at Springhill Cemetery before looping back through and stopping on Capitol Street. \n  \nThank You To Our Sponsors\n\n\n\n\n												Previous\n												Next\n			\n						Survey Coming Soon\n					 \nWant to volunteer for this event?\n \n		\n			\n						Volunteer Sign Ups Coming Soon
URL:https://festivallcharleston.com/event/carriage-trail-leaf-walk/
LOCATION:Sunrise Carriage Trail\, 746 Myrtle Rd.\, Charleston\, WV\, 25314\, United States
CATEGORIES:dance,family-fun,Local Art,music,theatre,visual arts
ATTACH;FMTTYPE=:
ORGANIZER;CN="FestivALL":MAILTO:director@festivallcharleston.com
END:VEVENT
END:VCALENDAR