BEGIN:VCALENDAR
VERSION:2.0
PRODID:-//FestivALL - ECPv6.15.17.1//NONSGML v1.0//EN
CALSCALE:GREGORIAN
METHOD:PUBLISH
X-WR-CALNAME:FestivALL
X-ORIGINAL-URL:https://festivallcharleston.com
X-WR-CALDESC:Events for FestivALL
REFRESH-INTERVAL;VALUE=DURATION:PT1H
X-Robots-Tag:noindex
X-PUBLISHED-TTL:PT1H
BEGIN:VTIMEZONE
TZID:America/New_York
BEGIN:DAYLIGHT
TZOFFSETFROM:-0500
TZOFFSETTO:-0400
TZNAME:EDT
DTSTART:20230312T070000
END:DAYLIGHT
BEGIN:STANDARD
TZOFFSETFROM:-0400
TZOFFSETTO:-0500
TZNAME:EST
DTSTART:20231105T060000
END:STANDARD
BEGIN:DAYLIGHT
TZOFFSETFROM:-0500
TZOFFSETTO:-0400
TZNAME:EDT
DTSTART:20240310T070000
END:DAYLIGHT
BEGIN:STANDARD
TZOFFSETFROM:-0400
TZOFFSETTO:-0500
TZNAME:EST
DTSTART:20241103T060000
END:STANDARD
BEGIN:DAYLIGHT
TZOFFSETFROM:-0500
TZOFFSETTO:-0400
TZNAME:EDT
DTSTART:20250309T070000
END:DAYLIGHT
BEGIN:STANDARD
TZOFFSETFROM:-0400
TZOFFSETTO:-0500
TZNAME:EST
DTSTART:20251102T060000
END:STANDARD
END:VTIMEZONE
BEGIN:VEVENT
DTSTART;TZID=America/New_York:20241018T190000
DTEND;TZID=America/New_York:20241018T203000
DTSTAMP:20260422T192117
CREATED:20250924T020322Z
LAST-MODIFIED:20250924T020322Z
UID:1745-1729278000-1729283400@festivallcharleston.com
SUMMARY:Alban Arts Center presents 'Steel Magnolias'
DESCRIPTION:Alban Arts Center presents ‘Steel Magnolias’\n																										 \nThe Alban Arts Center proudly presents Steel Magnolias.“Steel Magnolias” is a heartfelt and humorous play written by Robert Harling. Set in a small Louisiana town\, the play centers around a close-knit group of Southern women who gather regularly at a local beauty salon run by the no-nonsense Truvy Jones. The story unfolds over a span of about three years\, showcasing the daily lives\, struggles\, and triumphs of these strong\, resilient women. \nThe play explores themes of friendship\, family\, and the complexities of life through a series of poignant and often humorous scenes. The title itself reflects the essence of the characters: “Steel” symbolizes their strength and resilience\, while “Magnolias” represents their delicate and nurturing nature.Through its blend of humor and emotional depth\, “Steel Magnolias” highlights the power of female friendship and the enduring support these women provide each other through life’s ups and downs. The play has been celebrated for its authentic portrayal of Southern life and its ability to resonate with audiences through its relatable characters and heartfelt storytelling. \nLocation: The Capitol Theater\, 123 Summers St. \nTickets: $15 advance/$20 at the doorAll AgesAlban Arts Center: albanartscenter.com \n			\n						CLICK HERE FOR TICKETS
URL:https://festivallcharleston.com/event/alban-arts-center-presents-steel-magnolias/
LOCATION:The Capitol Theater\, 123 Summers St.\, Charleston\, WV\, United States
CATEGORIES:theatre
END:VEVENT
END:VCALENDAR