BEGIN:VCALENDAR
VERSION:2.0
PRODID:-//FestivALL - ECPv6.15.17.1//NONSGML v1.0//EN
CALSCALE:GREGORIAN
METHOD:PUBLISH
X-ORIGINAL-URL:https://festivallcharleston.com
X-WR-CALDESC:Events for FestivALL
REFRESH-INTERVAL;VALUE=DURATION:PT1H
X-Robots-Tag:noindex
X-PUBLISHED-TTL:PT1H
BEGIN:VTIMEZONE
TZID:America/New_York
BEGIN:DAYLIGHT
TZOFFSETFROM:-0500
TZOFFSETTO:-0400
TZNAME:EDT
DTSTART:20250309T070000
END:DAYLIGHT
BEGIN:STANDARD
TZOFFSETFROM:-0400
TZOFFSETTO:-0500
TZNAME:EST
DTSTART:20251102T060000
END:STANDARD
BEGIN:DAYLIGHT
TZOFFSETFROM:-0500
TZOFFSETTO:-0400
TZNAME:EDT
DTSTART:20260308T070000
END:DAYLIGHT
BEGIN:STANDARD
TZOFFSETFROM:-0400
TZOFFSETTO:-0500
TZNAME:EST
DTSTART:20261101T060000
END:STANDARD
BEGIN:DAYLIGHT
TZOFFSETFROM:-0500
TZOFFSETTO:-0400
TZNAME:EDT
DTSTART:20270314T070000
END:DAYLIGHT
BEGIN:STANDARD
TZOFFSETFROM:-0400
TZOFFSETTO:-0500
TZNAME:EST
DTSTART:20271107T060000
END:STANDARD
END:VTIMEZONE
BEGIN:VEVENT
DTSTART;TZID=America/New_York:20260525T110000
DTEND;TZID=America/New_York:20260525T150000
DTSTAMP:20260424T140408
CREATED:20260414T180046Z
LAST-MODIFIED:20260416T191339Z
UID:2039-1779706800-1779721200@festivallcharleston.com
SUMMARY:FestivALL Family Cookout
DESCRIPTION:Monday\, May 25 | 11am – 3pm\nFestivALL’s newest event is coming to Slack Plaza at City Center and Summers Street! \nCelebrate Memorial Day the FestivALL way—grab a hot dog\, spread out a blanket on the lawn\, and enjoy live entertainment on the main stage. \nInspired by the feeling of a classic family cookout with a touch of old turn-of-the-century carnival charm\, the day will also feature lively sideshows along Summers Street. Enjoy street performers\, FREE make-and-take activities\, tintype photography\, tattoos\, tarot readings\, and local artists displaying and selling their work. \nSlack Plaza Stage Schedule \n11:00am-11:30pm     Kanawha Valley Community Band\n11:30pm-12:00pm    CLOG\n12:00pm-12:30pm    The Lincoln County Cloggers\n12:30pm-1:30pm       Shelem\n1:30pm-2:00pm        Mixed Nuts Barbershop Quartet\n2:00pm-3:00pm        The Unit \nLocation: City Center at Slack Plaza\, 182 Summers St\, Charleston\, WV 25301 \nTime: 11:00am – 3:00pm \nThe FestivALL Family Cookout is made possible by Go-Mart\, West Virginia International Yeager Airport\, and ZMM Architects and Engineers
URL:https://festivallcharleston.com/event/festivall-family-cookout/
LOCATION:Slack Plaza\, City Center\, 177 Summers Street\, Charleston\, West Virginia
CATEGORIES:dance,family-fun,Local Art,music,theatre,visual arts
ATTACH;FMTTYPE=image/jpeg:https://festivallcharleston.com/wp-content/uploads/2026/04/Family-Cookout-4.jpg
ORGANIZER;CN="FestivALL":MAILTO:director@festivallcharleston.com
END:VEVENT
BEGIN:VEVENT
DTSTART;TZID=America/New_York:20260528T190000
DTEND;TZID=America/New_York:20260528T210000
DTSTAMP:20260424T140408
CREATED:20260414T180015Z
LAST-MODIFIED:20260424T124159Z
UID:2050-1779994800-1780002000@festivallcharleston.com
SUMMARY:William Shakespeare's "A Midsummer Night's Dream"
DESCRIPTION:Thursday\, May 28 | 7pm \nExperience the Bard’s celebration of love\, magic and theater with Rustic Mechanicals\, West Virginia’s only professional Shakespeare troupe\, as they bring “A Midsummer Night’s Dream” to life. \nProduced by FestivALL and The Rustic Mechanicals \nLocation: The Clay Center Sculpture Garden\, 1 Clay Square \nTime: 7:00pm \nAdmission is free
URL:https://festivallcharleston.com/event/william-shakespeares-a-midsummer-nights-dream/
LOCATION:The Clay Center Sculpture Garden\, 1 Clay Square\, Charleston\, WV\, United States
CATEGORIES:family-fun,Local Art,theatre
ATTACH;FMTTYPE=image/png:https://festivallcharleston.com/wp-content/uploads/2026/04/RM26-MND-Square.png
END:VEVENT
BEGIN:VEVENT
DTSTART;TZID=America/New_York:20260530T100000
DTEND;TZID=America/New_York:20260530T110000
DTSTAMP:20260424T140408
CREATED:20260414T180013Z
LAST-MODIFIED:20260416T185435Z
UID:2123-1780135200-1780138800@festivallcharleston.com
SUMMARY:"The Art of Being Yourself" — Drama Classes by Susan Pilar\, Class 1
DESCRIPTION:Saturday\, May 30 | 10:00am – 11:00am\nFor actors in any part of their training who want to bring more depth and authenticity to their work. You will learn essential acting foundational tools from the American Academy of Dramatic Arts in New York City. You will discover yourself through sensory work\, physical and vocal warm-ups\, relaxation exercises\, and improvisation. You will practice acting truthfully and with ease\, trusting the impulse of the moment. \nAbout your instructor: Susan Pilar is a master acting instructor with 20 years of experience teaching\, directing\, and mentoring actors worldwide. She is a member of the Core Faculty of the American Academy of Dramatic Arts in New York\, NY and has traveled across the US to represent the AADA. She is a devoted educator with a multidimensional approach to the craft honed from over two decades in the entertainment industry as a professional actor and dancer. Fusing the methods of Meisner\, Adler and Strasberg she has taught acting workshops in London\, Sweden\, Norway\, Argentina\, Brazil\, Doblin\, Edinburgh\, Rome and Australia.  She has also founded a NY based production company (Reel Intentions\, LLC) that writes\, shoots\, directs\, and edits demo reels for actors\, providing a unique\, professional and hands-on experience from start to finish. \nLocation: Charleston Light Opera Guild Theatre\, 411 Tennessee Ave.\, Charleston \nAges: 16-adult \nFee: $10 per class (each class is limited to 25 participants) \n \nThe FestivALL Workshop series is presented by Ramsey EyeCare.
URL:https://festivallcharleston.com/event/drama-classes-taught-by-susan-pilar/
LOCATION:Charleston Light Opera Guild
CATEGORIES:theatre,visual arts
ATTACH;FMTTYPE=image/png:https://festivallcharleston.com/wp-content/uploads/2026/04/Susan-Pilar.png
ORGANIZER;CN="FestivALL":MAILTO:director@festivallcharleston.com
END:VEVENT
BEGIN:VEVENT
DTSTART;TZID=America/New_York:20260530T130000
DTEND;TZID=America/New_York:20260530T140000
DTSTAMP:20260424T140408
CREATED:20260414T180032Z
LAST-MODIFIED:20260416T181238Z
UID:2117-1780146000-1780149600@festivallcharleston.com
SUMMARY:O’Ryan the O’Mazing’s Spectacular Circus Class
DESCRIPTION:Saturday\, May 30 | 1pm \nJoin O’Ryan the O’Mazing — a longtime\, beloved FestivALL street performer — for this family-friendly class on the art of clowning! \nLearn how to build a character and tap into your emotions with O’Ryan’s expert guidance. It’s a playful\, engaging experience that’s perfect for the whole family. \nLocation: Kanawha County Public Library\, Main Branch\, 123 Capitol St. \nAges: All ages \nFee: Free to attend \nThe FestivALL Workshop series is presented by Ramsey EyeCare. \n  \n 
URL:https://festivallcharleston.com/event/oryan-the-omazings-spectacular-circus-class/
LOCATION:Kanawha County Public Library
CATEGORIES:family-fun,other-events,theatre
ATTACH;FMTTYPE=image/png:https://festivallcharleston.com/wp-content/uploads/2026/04/Festivall-Workshop.png
ORGANIZER;CN="FestivALL":MAILTO:director@festivallcharleston.com
END:VEVENT
BEGIN:VEVENT
DTSTART;TZID=America/New_York:20260531T190000
DTEND;TZID=America/New_York:20260531T210000
DTSTAMP:20260424T140408
CREATED:20260414T180044Z
LAST-MODIFIED:20260416T180855Z
UID:2066-1780254000-1780261200@festivallcharleston.com
SUMMARY:FestivALL River Cruises: Murder on the River Queen
DESCRIPTION:Sunday\, May 31 | 7pm\nSolve this murder mystery on the open waters of the mighty Kanawha River!\nA sternwheeler becomes a crime scene in “Murder on the River Queen\,” a 1920s-themed murder mystery theatre cruise! Dress in your best roaring ’20s attire\, interact with the cast\, and help uncover the culprit as the investigation unfolds on the water. \nLocation: Haddad Riverfront Park\, 600 Kanawha Blvd.\nTime: 7:00pm \nTickets: General Admission $35
URL:https://festivallcharleston.com/event/festivall-river-cruises-murder-on-the-river-queen/
LOCATION:Haddad Riverfront Park\, 600 Kanawha Blvd. E\, Charleston\, WV\, 25301\, United States
CATEGORIES:family-fun,theatre
ORGANIZER;CN="FestivALL":MAILTO:director@festivallcharleston.com
END:VEVENT
END:VCALENDAR