BEGIN:VCALENDAR
VERSION:2.0
PRODID:-//FestivALL - ECPv6.15.17.1//NONSGML v1.0//EN
CALSCALE:GREGORIAN
METHOD:PUBLISH
X-WR-CALNAME:FestivALL
X-ORIGINAL-URL:https://festivallcharleston.com
X-WR-CALDESC:Events for FestivALL
REFRESH-INTERVAL;VALUE=DURATION:PT1H
X-Robots-Tag:noindex
X-PUBLISHED-TTL:PT1H
BEGIN:VTIMEZONE
TZID:America/New_York
BEGIN:DAYLIGHT
TZOFFSETFROM:-0500
TZOFFSETTO:-0400
TZNAME:EDT
DTSTART:20250309T070000
END:DAYLIGHT
BEGIN:STANDARD
TZOFFSETFROM:-0400
TZOFFSETTO:-0500
TZNAME:EST
DTSTART:20251102T060000
END:STANDARD
BEGIN:DAYLIGHT
TZOFFSETFROM:-0500
TZOFFSETTO:-0400
TZNAME:EDT
DTSTART:20260308T070000
END:DAYLIGHT
BEGIN:STANDARD
TZOFFSETFROM:-0400
TZOFFSETTO:-0500
TZNAME:EST
DTSTART:20261101T060000
END:STANDARD
BEGIN:DAYLIGHT
TZOFFSETFROM:-0500
TZOFFSETTO:-0400
TZNAME:EDT
DTSTART:20270314T070000
END:DAYLIGHT
BEGIN:STANDARD
TZOFFSETFROM:-0400
TZOFFSETTO:-0500
TZNAME:EST
DTSTART:20271107T060000
END:STANDARD
END:VTIMEZONE
BEGIN:VEVENT
DTSTART;TZID=America/New_York:20260522T000000
DTEND;TZID=America/New_York:20260531T235959
DTSTAMP:20260422T232734
CREATED:20260414T180040Z
LAST-MODIFIED:20260416T180319Z
UID:2102-1779408000-1780271999@festivallcharleston.com
SUMMARY:Art-for-ALL Kids Juried Art Exhibition
DESCRIPTION:Art-for-ALL is a juried exhibition open to children in grades Pre-K through 6th in several WV counties. The exhibition is open during KCPL hours on the fourth floor of the Kanawha County Public Library’s downtown branch. \nSupport: Kanawha County Public Library \nSponsored by The Elliot Family Foundation\, Charles & Mary Fayne Glotfelty Foundation\, The Daywood Foundation \nLocation: Kanawha County Public Library Jameson Tower Gallery (4th floor)\, 123 Capitol St. \nKanawha County Public Library Hours:\nMon.–Thur. 9am–8pm\nFri. & Sat. 9am–5pm\nSun. Closed
URL:https://festivallcharleston.com/event/art-for-all-kids-juried-art-exhibition-3/
LOCATION:Kanawha County Public Library
CATEGORIES:family-fun,Local Art,visual arts
ATTACH;FMTTYPE=image/jpeg:https://festivallcharleston.com/wp-content/uploads/2026/04/DSC09954.jpg
ORGANIZER;CN="FestivALL":MAILTO:director@festivallcharleston.com
END:VEVENT
END:VCALENDAR