BEGIN:VCALENDAR
VERSION:2.0
PRODID:-//FestivALL - ECPv6.15.17.1//NONSGML v1.0//EN
CALSCALE:GREGORIAN
METHOD:PUBLISH
X-ORIGINAL-URL:https://festivallcharleston.com
X-WR-CALDESC:Events for FestivALL
REFRESH-INTERVAL;VALUE=DURATION:PT1H
X-Robots-Tag:noindex
X-PUBLISHED-TTL:PT1H
BEGIN:VTIMEZONE
TZID:America/New_York
BEGIN:DAYLIGHT
TZOFFSETFROM:-0500
TZOFFSETTO:-0400
TZNAME:EDT
DTSTART:20250309T070000
END:DAYLIGHT
BEGIN:STANDARD
TZOFFSETFROM:-0400
TZOFFSETTO:-0500
TZNAME:EST
DTSTART:20251102T060000
END:STANDARD
BEGIN:DAYLIGHT
TZOFFSETFROM:-0500
TZOFFSETTO:-0400
TZNAME:EDT
DTSTART:20260308T070000
END:DAYLIGHT
BEGIN:STANDARD
TZOFFSETFROM:-0400
TZOFFSETTO:-0500
TZNAME:EST
DTSTART:20261101T060000
END:STANDARD
BEGIN:DAYLIGHT
TZOFFSETFROM:-0500
TZOFFSETTO:-0400
TZNAME:EDT
DTSTART:20270314T070000
END:DAYLIGHT
BEGIN:STANDARD
TZOFFSETFROM:-0400
TZOFFSETTO:-0500
TZNAME:EST
DTSTART:20271107T060000
END:STANDARD
END:VTIMEZONE
BEGIN:VEVENT
DTSTART;TZID=America/New_York:20260523T180000
DTEND;TZID=America/New_York:20260523T200000
DTSTAMP:20260421T213111
CREATED:20260414T180047Z
LAST-MODIFIED:20260416T191637Z
UID:2029-1779559200-1779566400@festivallcharleston.com
SUMMARY:Base Camp Printing Company Creative Block
DESCRIPTION:Saturday\, May 23 | 6pm – 8pm\nHang out with Base Camp Printing Co. and friends and bring a project or craft to work on in their warehouse space!\n If you don’t have anything in mind to work on\, don’t let that stop you from joining the fun. They have a wide variety of art supplies to play with and are starting a small collection of craft kits\, which are up for grabs too. Feel free to bring any unused art supplies to add to their ever growing stash of goodies. \nProduced by Base Camp Printing Co. \nLocation: Base Camp Printing Company\, 1314 Hansford St. \nTime: 6:00pm-8:00pm
URL:https://festivallcharleston.com/event/base-camp-printing-company-creative-block/
LOCATION:Base Camp Printing\, 1314 Hansford St.\, Charleston\, WV\, 25301\, United States
ATTACH;FMTTYPE=image/png:https://festivallcharleston.com/wp-content/uploads/2026/04/Base-Camp.png
END:VEVENT
END:VCALENDAR