BEGIN:VCALENDAR
VERSION:2.0
PRODID:-//FestivALL - ECPv6.15.17.1//NONSGML v1.0//EN
CALSCALE:GREGORIAN
METHOD:PUBLISH
X-ORIGINAL-URL:https://festivallcharleston.com
X-WR-CALDESC:Events for FestivALL
REFRESH-INTERVAL;VALUE=DURATION:PT1H
X-Robots-Tag:noindex
X-PUBLISHED-TTL:PT1H
BEGIN:VTIMEZONE
TZID:America/New_York
BEGIN:DAYLIGHT
TZOFFSETFROM:-0500
TZOFFSETTO:-0400
TZNAME:EDT
DTSTART:20240310T070000
END:DAYLIGHT
BEGIN:STANDARD
TZOFFSETFROM:-0400
TZOFFSETTO:-0500
TZNAME:EST
DTSTART:20241103T060000
END:STANDARD
BEGIN:DAYLIGHT
TZOFFSETFROM:-0500
TZOFFSETTO:-0400
TZNAME:EDT
DTSTART:20250309T070000
END:DAYLIGHT
BEGIN:STANDARD
TZOFFSETFROM:-0400
TZOFFSETTO:-0500
TZNAME:EST
DTSTART:20251102T060000
END:STANDARD
BEGIN:DAYLIGHT
TZOFFSETFROM:-0500
TZOFFSETTO:-0400
TZNAME:EDT
DTSTART:20260308T070000
END:DAYLIGHT
BEGIN:STANDARD
TZOFFSETFROM:-0400
TZOFFSETTO:-0500
TZNAME:EST
DTSTART:20261101T060000
END:STANDARD
END:VTIMEZONE
BEGIN:VEVENT
DTSTART;TZID=America/New_York:20251002T000000
DTEND;TZID=America/New_York:20251107T235959
DTSTAMP:20260423T053944
CREATED:20250924T020350Z
LAST-MODIFIED:20250925T170735Z
UID:1811-1759363200-1762559999@festivallcharleston.com
SUMMARY:Still Becoming: Honoring the Process of Change—Unfinished\, Ongoing\, and Full of Possibility
DESCRIPTION:WVSDT’s art exhibit\, taking place in the Kanawha County Public Library\, is being held in conjunction with Youth Justice Action Month (YJAM). YJAM is an annual campaign where advocates unite to organize digital and in-person events to raise awareness and inspire action for young people impacted by the justice system. \nThis exhibit will feature student artwork centered around the reflection of growth and transformation that is witnessed in youth every day.
URL:https://festivallcharleston.com/event/still-becoming-honoring-the-process-of-change-unfinished-ongoing-and-full-of-possibility/
LOCATION:Kanawha County Public Library
CATEGORIES:Local Art,visual arts
ATTACH;FMTTYPE=image/webp:https://festivallcharleston.com/wp-content/uploads/2025/09/download-1-1-1.webp
ORGANIZER;CN="WVSDT":MAILTO:https://wvde.us/wvsdt
END:VEVENT
BEGIN:VEVENT
DTSTART;TZID=America/New_York:20251009T180000
DTEND;TZID=America/New_York:20251009T200000
DTSTAMP:20260423T053944
CREATED:20250924T020341Z
LAST-MODIFIED:20251007T023657Z
UID:1790-1760032800-1760040000@festivallcharleston.com
SUMMARY:SOLD OUT: LEGO Printing Workshop during FestivALL
DESCRIPTION:UPDATE (10.06.2025) THIS EVENT IS SOLD OUT. \nJoin us for a FREE workshop sponsored by FestivALL – Printing with LEGOs! \nEach participant will get a 5 in square LEGO base to work with. Using the base and a variety of shapes of LEGO dots we will make designs and print them in our old fashioned printing press!\n15 spots available\nAges 6+\nWe will get messy! Wear clothes you don’t mind getting dirty. \nOffered at no cost to you — comparable workshops are typically $30 per person. Please be mindful with your reservation. If you are no longer able to attend\, let us know so we can make sure the class stays full. \nDate: Thursday\, October 9th\nTime: 6-8pm\nLocation: Base Camp Printing Co.\,1314 Hansford St. \n\nTICKETS COMING SOON
URL:https://festivallcharleston.com/event/lego-printing-workshop-during-festivall/
LOCATION:Base Camp Printing\, 1314 Hansford St.\, Charleston\, WV\, 25301\, United States
CATEGORIES:family-fun,Local Art,other-events,visual arts
ATTACH;FMTTYPE=image/webp:https://festivallcharleston.com/wp-content/uploads/2025/09/Lego-1.webp
ORGANIZER;CN="FestivALL":MAILTO:director@festivallcharleston.com
END:VEVENT
BEGIN:VEVENT
DTSTART;TZID=America/New_York:20251009T190000
DTEND;TZID=America/New_York:20251009T210000
DTSTAMP:20260423T053944
CREATED:20250924T020342Z
LAST-MODIFIED:20251009T154134Z
UID:1792-1760036400-1760043600@festivallcharleston.com
SUMMARY:Sing Along presented by Arts Amplified
DESCRIPTION:Arts Amplified presents Sing Along with Julie Adams & Friends at City Center!\nBring your voice and your friends for a feel-good community sing-along. This free event features live music\, lyric sheets\, and big group energy—no talent required\, just enthusiasm! \n  \nDate: October 9\nTime: 7-9pm\nLocation: City Center at Slack Plaza\, 182 Summers St.
URL:https://festivallcharleston.com/event/sing-along-presented-by-arts-amplified/
LOCATION:Slack Plaza\, City Center\, 177 Summers Street\, Charleston\, West Virginia
CATEGORIES:family-fun,music,other-events
ATTACH;FMTTYPE=image/jpeg:https://festivallcharleston.com/wp-content/uploads/2025/09/558746511_800347979306007_3344451895619587204_n.jpg
END:VEVENT
BEGIN:VEVENT
DTSTART;TZID=America/New_York:20251009T193000
DTEND;TZID=America/New_York:20251009T210000
DTSTAMP:20260423T053944
CREATED:20250924T020342Z
LAST-MODIFIED:20251007T203013Z
UID:1791-1760038200-1760043600@festivallcharleston.com
SUMMARY:An Evening with West Virginia Dance Company
DESCRIPTION:FestivALL presents An Evening with West Virginia Dance Company!\n\nThis night of dance features professional dancers performing works by internationally renowned and West Virginia–acclaimed choreographers. There will be nine artists performing to the works of five choreographers and three original compositions.\n\nTICKETS: $18 (Adults)\, $10 (Students)\nClick here for tickets
URL:https://festivallcharleston.com/event/an-evening-with-west-virginia-dance-company-2/
LOCATION:The Culture Center\, 1900 Kanawha Blvd E\, Charleston\, WV\, 25301\, United States
CATEGORIES:dance,family-fun,Local Art,visual arts
ATTACH;FMTTYPE=image/png:https://festivallcharleston.com/wp-content/uploads/2025/09/Untitled-design-3.png
ORGANIZER;CN="FestivALL":MAILTO:director@festivallcharleston.com
END:VEVENT
END:VCALENDAR