BEGIN:VCALENDAR
VERSION:2.0
PRODID:-//FestivALL - ECPv6.15.17.1//NONSGML v1.0//EN
CALSCALE:GREGORIAN
METHOD:PUBLISH
X-ORIGINAL-URL:https://festivallcharleston.com
X-WR-CALDESC:Events for FestivALL
REFRESH-INTERVAL;VALUE=DURATION:PT1H
X-Robots-Tag:noindex
X-PUBLISHED-TTL:PT1H
BEGIN:VTIMEZONE
TZID:America/New_York
BEGIN:DAYLIGHT
TZOFFSETFROM:-0500
TZOFFSETTO:-0400
TZNAME:EDT
DTSTART:20250309T070000
END:DAYLIGHT
BEGIN:STANDARD
TZOFFSETFROM:-0400
TZOFFSETTO:-0500
TZNAME:EST
DTSTART:20251102T060000
END:STANDARD
BEGIN:DAYLIGHT
TZOFFSETFROM:-0500
TZOFFSETTO:-0400
TZNAME:EDT
DTSTART:20260308T070000
END:DAYLIGHT
BEGIN:STANDARD
TZOFFSETFROM:-0400
TZOFFSETTO:-0500
TZNAME:EST
DTSTART:20261101T060000
END:STANDARD
BEGIN:DAYLIGHT
TZOFFSETFROM:-0500
TZOFFSETTO:-0400
TZNAME:EDT
DTSTART:20270314T070000
END:DAYLIGHT
BEGIN:STANDARD
TZOFFSETFROM:-0400
TZOFFSETTO:-0500
TZNAME:EST
DTSTART:20271107T060000
END:STANDARD
END:VTIMEZONE
BEGIN:VEVENT
DTSTART;TZID=America/New_York:20260511T000000
DTEND;TZID=America/New_York:20260612T235959
DTSTAMP:20260425T092146
CREATED:20260414T180013Z
LAST-MODIFIED:20260415T171456Z
UID:2089-1778457600-1781308799@festivallcharleston.com
SUMMARY:Show Your Pride Window Display Contest
DESCRIPTION:Show your pride!\nUsing the colors of the rainbow\, businesses throughout Charleston\, WV are invited to use their storefronts to turn the city into a work of art. These colorful storefronts will help us uplift the capital city\, shining a positive light on business\, art\, and Pride. \nPresented by: Rainbow Pride of West Virginia\nLocation: Various locations
URL:https://festivallcharleston.com/event/show-your-pride-window-display-contest-3/
LOCATION:Charleston\, WV\, Charleston\, WV\, United States
CATEGORIES:Local Art,other-events,visual arts
ATTACH;FMTTYPE=image/png:https://festivallcharleston.com/wp-content/uploads/2026/04/Screenshot-2026-04-06-at-10.58.37-AM.png
END:VEVENT
BEGIN:VEVENT
DTSTART;TZID=America/New_York:20260521T000000
DTEND;TZID=America/New_York:20260611T235959
DTSTAMP:20260425T092146
CREATED:20260414T180031Z
LAST-MODIFIED:20260415T172126Z
UID:2091-1779321600-1781222399@festivallcharleston.com
SUMMARY:Downtown Open
DESCRIPTION:Golf your way through downtown Charleston\, WV this summer!\nThe sidewalks of downtown Charleston are transformed into a one-of-a-kind miniature golf course that allows people to explore our downtown\, showcases regional\ncompanies and small businesses\, and provides free entertainment to friends and families. \n• Putters and balls are available at these locations: Taylor Books\, Adelphia Sports Bar & Grille\, Art Emporium\, and Tony the Tailor \nThis event is presented by the Charleston Area Alliance & Chamber of Commerce \n  \n• Sponsor: West Virginia International Yeager Airport\n• Location: Downtown Charleston\n• When: May 21 – June 11
URL:https://festivallcharleston.com/event/downtown-open-4/
LOCATION:Downtown Charleston
CATEGORIES:family-fun,Local Art,other-events
ATTACH;FMTTYPE=image/jpeg:https://festivallcharleston.com/wp-content/uploads/2026/04/golf-e1776273583325.jpg
END:VEVENT
BEGIN:VEVENT
DTSTART;TZID=America/New_York:20260521T190000
DTEND;TZID=America/New_York:20260521T210000
DTSTAMP:20260425T092146
CREATED:20260414T060019Z
LAST-MODIFIED:20260422T144315Z
UID:2017-1779390000-1779397200@festivallcharleston.com
SUMMARY:FestivALL Eve Drum Circle
DESCRIPTION:FestivALL Eve Drum Circle\nThursday\, May 21 | 6pm\nChris Higgins will lead this special drum circle welcoming FestivALL to town for the 22nd year during ArtWalk. Bring your own drum if you have one — but no worries if you don’t; some instruments will be provided! \nLocation: Lee St. Triangle
URL:https://festivallcharleston.com/event/festivall-eve-drum-circle/
LOCATION:Slack Plaza\, City Center\, 177 Summers Street\, Charleston\, West Virginia
CATEGORIES:family-fun,music
ATTACH;FMTTYPE=image/jpeg:https://festivallcharleston.com/wp-content/uploads/2026/04/DRUMCIRCLE_20-scaled.jpg
END:VEVENT
BEGIN:VEVENT
DTSTART;TZID=America/New_York:20260523T090000
DTEND;TZID=America/New_York:20260523T100000
DTSTAMP:20260425T092146
CREATED:20260414T060006Z
LAST-MODIFIED:20260416T191819Z
UID:2027-1779526800-1779530400@festivallcharleston.com
SUMMARY:Morning Yoga
DESCRIPTION:Saturday\, May 23 | 9am \nJoin Beth Moore\, Folded Leaf yoga instructor\, for a 60 minute\, breath-based flow to cultivate clarity & focus your day.  \nYou’ll have a continuous flow class with breath work throughout and less guidance to allow you to lean into your breath. We’ll start with some pranayama to jumpstart the system then get right into a couple progressive flows\, ending with a little gentle mobility for the hips. A great session when you need to find your Zen before a day of activity. All levels welcome. Mats and props will be provided if you do not have your own. \nProduced by Folded Leaf Yoga Studio\nLocation: Haddad River Front Park\, 600 Kanawha Blvd E\, Charleston\, WV 25301\nTime: 9:00am
URL:https://festivallcharleston.com/event/morning-yoga-2/
LOCATION:Haddad Riverfront Park\, 600 Kanawha Blvd. E\, Charleston\, WV\, 25301\, United States
CATEGORIES:other-events
ATTACH;FMTTYPE=image/webp:https://festivallcharleston.com/wp-content/uploads/2025/09/F3_4-scaled-1.webp
END:VEVENT
BEGIN:VEVENT
DTSTART;TZID=America/New_York:20260523T100000
DTEND;TZID=America/New_York:20260523T113000
DTSTAMP:20260425T092146
CREATED:20260414T060054Z
LAST-MODIFIED:20260415T192043Z
UID:2025-1779530400-1779535800@festivallcharleston.com
SUMMARY:Art & Architecture Walking Tour
DESCRIPTION:Art & Architecture Walking Tour\nDive into the fascinating history\, present\, and promising future of Charleston and its downtown on this tour. This district is overflowing with history\, architecture\, and art – guests will learn the best highlights. \nReservations: Space is Limited to 15.\nRegistration coming soon \nLocation: 901 Lee St. (in front of WesBanco) \nTime: 10:00am
URL:https://festivallcharleston.com/event/art-architecture-walking-tour-3/
LOCATION:Charleston\, WV\, Charleston\, WV\, United States
CATEGORIES:family-fun,Local Art,visual arts
ATTACH;FMTTYPE=image/jpeg:https://festivallcharleston.com/wp-content/uploads/2026/04/IMG_6018-scaled.jpg
END:VEVENT
BEGIN:VEVENT
DTSTART;TZID=America/New_York:20260530T100000
DTEND;TZID=America/New_York:20260530T180000
DTSTAMP:20260425T092146
CREATED:20260414T180017Z
LAST-MODIFIED:20260416T164331Z
UID:1996-1780135200-1780164000@festivallcharleston.com
SUMMARY:Capitol Street Art Fair (Saturday)
DESCRIPTION:FestivALL Capitol Street Art Fair (Saturday)\nSaturday\, May 30 | 10am-6pm\nSunday\, May 31 | 11am-5pm\n  \nThe annual two-day Capitol Street Art Fair welcomes you to enjoy art\, music\, and more in the heart of downtown Charleston\, WV! \nOver 60 local and regional artisans will sell and display their wares in bath & body\, books\, fine art\, jewelry\, pottery\, photography\, printmaking\, woodwork\, textiles\, and more. Live music stages\, roaming performers\, and other entertainment will also delight you for two days of fun in the heart of the city. \nMake sure to check out the Children’s Art Fair\, and more while you are there. \n(FREE ENTRY) \n  \nAdditional Sponsors: CAMC/Vandalia Health\, WV Lottery \n  \n• 2026 Artisans •\n* indicates HAF participation (artists subject to change) \nBath & Body\nAppalachian Botanical Co.\nExclusive Pastime Creations LLC\nWild Mountain Soap Co. \nFace Painters\nRobbie Hay\n*Mell’s\nDoodlin’ Roo \nFine Art\n*Bashful Bee Press\n*Cali Wesson Artwork\n*Corrissa Flesher Art & Designs\n*HepCatz Design\n*John Wirts Art\nJuyeoun Kim Art\n*MarisaMade LLC\n*Matt Smith Makes\n*Melissa Doty Artwork\nMeredith Young\n*Sadie Valzetta Studio \nGlasswork\nJ.Straub Fine Art\nRoe Glass Art \nJewelry\nDiet Sweater\n*Connie McColley\, handmade jewelry\n*The Brass Era\nGayle Rancer Metalsmith\nLilahbloom Jewelry\nMick’s Media Jewelry\nMystical Crystal Jewelry\nOn Cord Creations\nPebble Nest Jewelry\nSacred Totems\n*Shea New jewelry\n*Teresa Gail Designs\nThe Queen of Arts-Curiosities by Adrienne \nPhotography\n*Deylight Photography\n*Echo-Lit\nKevin Jack Photography\n*Randall Sanger Photography\n*Reflection in a Pool\n*West Virginia Homeplace \nPottery/Ceramics\n*The Beard and The Bun Pottery\n*Ellie’s Emporium\nMegFerg Pottery\nMt. Momma Mud\n*Siren Pottery \nPrintmaking\n*Art.Monsters.Printmaking.\nBase Camp Printing Co.\n*Cathy L. Fulks Art\n*Hippie’s Daughter\nLogan Schmitt Illustration\n*Made by Meish\n*Sugar Pop Press \nMetalwork\n*Fire and Steel Artistic Creations| \nMisc.\nAngel Eye Designs (Beading)\nBettie Booths (Photobooth)\n*Harmonograph\nRob Cleland (caricatures) \nSpecialty Food\nThe Happy Hound\n*Hill & Holler Herbal Company\nOlden Days Farm and Cottage \nTextiles\nCedar Olivet Orientals\nKnotty Lady Macrame\nThe Madd Hooker Co.\n*Thomas Ruggiero Art & Designs\n*Yarn.0ver \nWoodwork\nArt by Petey and Weese Woodgems collaborative\n*Black Locust Woodshop\nHeirloom Footstools \n• Street Stage Schedule •\nCapitol Street Stage presented by City National Bank\nSATURDAY\, May 30\n\n10am    O’Ryan the O’Mazing\n11am     McKinney Music\n12pm     Brenna and Brittaney\n1pm       Kurtis Schultis and Scripless\n2pm      Option 22\n3pm      East End Ghouls\n4pm      Old Soul Reunion\n5pm      Charleston Light Opera Guild\n\nSUNDAY\, May 31\n\n11am     Andy Park\n12pm    O’Ryan the O’Mazing\n1pm       Tony M Music\n2pm      Rylee Bapst Band\n3pm      Somethin’ Special\n4pm      Sasha Colette (Plus One)
URL:https://festivallcharleston.com/event/capitol-street-art-fair-2/
LOCATION:Capitol Street\, 243 Capitol St.\, Charleston\, WV\, 25301\, United States
CATEGORIES:Local Art,music
ATTACH;FMTTYPE=image/jpeg:https://festivallcharleston.com/wp-content/uploads/2026/03/474694091_1035513538609665_3141177578031078417_n.jpg
END:VEVENT
BEGIN:VEVENT
DTSTART;TZID=America/New_York:20260530T110000
DTEND;TZID=America/New_York:20260530T170000
DTSTAMP:20260425T092146
CREATED:20260414T180055Z
LAST-MODIFIED:20260416T164209Z
UID:2136-1780138800-1780160400@festivallcharleston.com
SUMMARY:Children's Art Fair (Saturday)
DESCRIPTION:FestivALL Children’s Art Fair (Saturday)\nSaturday\, May 30 | 10am-5pm\nSunday\, May 31 | 11am-4pm\n  \nThe Children’s Art Fair is two days of family fun! Enjoy make & take craft opportunities from invited artisans and volunteer groups and a stage with kid-friendly music and performances\, games\, and other activities for children of all ages.  On SATURDAY ONLY at the Kanawha County Public Library\, enjoy the library’s used book sale and ‘Summer Library Club Saturday.’ \n(FREE ENTRY) \nMake and Take Partners: Kanawha County Extension Master Gardeners\, West Virginia Department of Tourism/State Arts Office\, Scouting America\, Read Aloud West Virginia\, West Virginia 4-H\, West Virginia Youth Symphony\, The Clay Center\, Buckskin Council\, BSA\, River City Youth Ballet\, West Virginia Public Broadcasting\, Charleston Dirty Birds   \nSponsors: The Daywood Foundation\, The Elliot Family Foundation\, Go-Mart\, The Kanawha County Public Library\, Security America\, United Bank\, Vandalia Health\, ZMM Architects and Engineers \nLocation:  In front of the Main Library\, 123 Capitol St. (used book sale inside the library) \n  \nSTAGE SCHEDULE\nChildren’s Art Fair Stage presented by Bailey & Glasser\, LLP \nSaturday\, May 30\n\n10am    Annabelle Reed\n11am     Katzendrummerz\, Play drums! Have fun! (Ammed Solomon\, Mark Davis)\n12pm     Tony M. Music\n1pm       Children’s Theatre of Charleston\n2pm      The Lincoln County Cloggers\n3pm       O’Ryan the O’Mazing\n4pm      Lydia Sturm\n\nSunday\, May 31\n\n11am    TBA\n12pm    TBA\n1pm      O’Ryan the O’Mazing\n2pm      Katzendrummerz\, Play drums! Have fun! (Ammed Solomon\, Mark Davis)\n3pm      Tony M. Music
URL:https://festivallcharleston.com/event/childrens-art-fair-2/
LOCATION:Capitol Street\, 243 Capitol St.\, Charleston\, WV\, 25301\, United States
CATEGORIES:family-fun,Local Art,music
ATTACH;FMTTYPE=image/jpeg:https://festivallcharleston.com/wp-content/uploads/2026/04/SOMEASSEMBLYREQUIRED_41-scaled.jpg
ORGANIZER;CN="FestivALL":MAILTO:director@festivallcharleston.com
END:VEVENT
BEGIN:VEVENT
DTSTART;TZID=America/New_York:20260531T110000
DTEND;TZID=America/New_York:20260531T160000
DTSTAMP:20260425T092146
CREATED:20260414T180011Z
LAST-MODIFIED:20260416T164047Z
UID:2138-1780225200-1780243200@festivallcharleston.com
SUMMARY:Children's Art Fair (Sunday)
DESCRIPTION:FestivALL Children’s Art Fair (Sunday)\nSaturday\, May 30 | 10am-5pm\nSunday\, May 31 | 11am-4pm\n  \nThe Children’s Art Fair is two days of family fun! Enjoy make & take craft opportunities from invited artisans and volunteer groups and a stage with kid-friendly music and performances\, games\, and other activities for children of all ages.   \n(FREE ENTRY) \nMake and Take Partners: Kanawha County Extension Master Gardeners\, West Virginia Department of Tourism/State Arts Office\, Scouting America\, Read Aloud West Virginia\, West Virginia 4-H\, West Virginia Youth Symphony\, The Clay Center\, Buckskin Council\, BSA\, River City Youth Ballet\, West Virginia Public Broadcasting\, Charleston Dirty Birds   \nSponsors: The Daywood Foundation\, The Elliot Family Foundation\, Go-Mart\, The Kanawha County Public Library\, Security America\, United Bank\, Vandalia Health\, ZMM Architects and Engineers \nLocation:  In front of the Main Library\, 123 Capitol St. (used book sale inside the library) \n  \nSTAGE SCHEDULE\nChildren’s Art Fair Stage presented by Bailey & Glasser\, LLP \nSaturday\, May 30\n\n10am    Annabelle Reed\n11am     Katzendrummerz\, Play drums! Have fun! (Ammed Solomon\, Mark Davis)\n12pm     Tony M. Music\n1pm       Children’s Theatre of Charleston\n2pm      The Lincoln County Cloggers\n3pm       O’Ryan the O’Mazing\n4pm      Lydia Sturm\n\nSunday\, May 31\n\n11am    TBA\n12pm    TBA\n1pm      O’Ryan the O’Mazing\n2pm      Katzendrummerz\, Play drums! Have fun! (Ammed Solomon\, Mark Davis)\n3pm      Tony M. Music
URL:https://festivallcharleston.com/event/childrens-art-fair-sunday-2/
LOCATION:Capitol Street\, 243 Capitol St.\, Charleston\, WV\, 25301\, United States
ATTACH;FMTTYPE=image/jpeg:https://festivallcharleston.com/wp-content/uploads/2026/04/SOMEASSEMBLYREQUIRED_41-scaled.jpg
ORGANIZER;CN="FestivALL":MAILTO:director@festivallcharleston.com
END:VEVENT
BEGIN:VEVENT
DTSTART;TZID=America/New_York:20260531T110000
DTEND;TZID=America/New_York:20260531T170000
DTSTAMP:20260425T092146
CREATED:20260414T060018Z
LAST-MODIFIED:20260414T202256Z
UID:2131-1780225200-1780246800@festivallcharleston.com
SUMMARY:Capitol Street Art Fair (Sunday)
DESCRIPTION:FestivALL Capitol Street Art Fair (Sunday)\nSaturday\, May 30 | 10am-6pm\nSunday\, May 31 | 11am-5pm\n  \n  \nThe annual two-day Capitol Street Art Fair welcomes you to enjoy art\, music\, and more in the heart of downtown Charleston\, WV! \nOver 60 local and regional artisans will sell and display their wares in bath & body\, books\, fine art\, jewelry\, pottery\, photography\, printmaking\, woodwork\, textiles\, and more. Live music stages\, roaming performers\, and other entertainment will also delight you for two days of fun in the heart of the city. \nMake sure to check out the Children’s Art Fair\, and more while you are there. \n(FREE ENTRY) \n  \nAdditional Sponsors: CAMC/Vandalia Health\, WV Lottery\n  \n2026 Artisans\n* indicates HAF participation (artists subject to change) \nBath & Body\nAppalachian Botanical Co.\nExclusive Pastime Creations LLC\nWild Mountain Soap Co. \nFace Painters\nRobbie Hay\n*Mell’s\nDoodlin’ Roo \nFine Art\n*Bashful Bee Press\n*Cali Wesson Artwork\n*Corrissa Flesher Art & Designs\n*HepCatz Design\n*John Wirts Art\nJuyeoun Kim Art\n*MarisaMade LLC\n*Matt Smith Makes\n*Melissa Doty Artwork\nMeredith Young\n*Sadie Valzetta Studio \nGlasswork\nJ.Straub Fine Art\nRoe Glass Art \nJewelry\nDiet Sweater\n*Connie McColley\, handmade jewelry\n*The Brass Era\nGayle Rancer Metalsmith\nLilahbloom Jewelry\nMick’s Media Jewelry\nMystical Crystal Jewelry\nOn Cord Creations\nPebble Nest Jewelry\nSacred Totems\n*Shea New jewelry\n*Teresa Gail Designs\nThe Queen of Arts-Curiosities by Adrienne \nPhotography\n*Deylight Photography\n*Echo-Lit\nKevin Jack Photography\n*Randall Sanger Photography\n*Reflection in a Pool\n*West Virginia Homeplace \nPottery/Ceramics\n*The Beard and The Bun Pottery\n*Ellie’s Emporium\nMegFerg Pottery\nMt. Momma Mud\n*Siren Pottery \nPrintmaking\n*Art.Monsters.Printmaking.\nBase Camp Printing Co.\n*Cathy L. Fulks Art\n*Hippie’s Daughter\nLogan Schmitt Illustration\n*Made by Meish\n*Sugar Pop Press \nMetalwork\n*Fire and Steel Artistic Creations| \nMisc.\nAngel Eye Designs (Beading)\nBettie Booths (Photobooth)\n*Harmonograph\nRob Cleland (caricatures) \nSpecialty Food\nThe Happy Hound\n*Hill & Holler Herbal Company\nOlden Days Farm and Cottage \nTextiles\nCedar Olivet Orientals\nKnotty Lady Macrame\nThe Madd Hooker Co.\n*Thomas Ruggiero Art & Designs\n*Yarn.0ver \nWoodwork\nArt by Petey and Weese Woodgems collaborative\n*Black Locust Woodshop\nHeirloom Footstools \nStreet Stage Schedule (coming soon)\n 
URL:https://festivallcharleston.com/event/capitol-street-art-fair-sunday-2/
LOCATION:Capitol Street\, 243 Capitol St.\, Charleston\, WV\, 25301\, United States
CATEGORIES:Local Art,music
ATTACH;FMTTYPE=image/jpeg:https://festivallcharleston.com/wp-content/uploads/2026/03/474694091_1035513538609665_3141177578031078417_n.jpg
ORGANIZER;CN="FestivALL":MAILTO:director@festivallcharleston.com
END:VEVENT
BEGIN:VEVENT
DTSTART;TZID=America/New_York:20260531T110000
DTEND;TZID=America/New_York:20260531T170000
DTSTAMP:20260425T092146
CREATED:20260414T060047Z
LAST-MODIFIED:20260416T164403Z
UID:2000-1780225200-1780246800@festivallcharleston.com
SUMMARY:Capitol Street Art Fair (Sunday)
DESCRIPTION:FestivALL Capitol Street Art Fair (Saturday)\nSaturday\, May 30 | 10am-6pm\nSunday\, May 31 | 11am-5pm\n  \n  \nThe annual two-day Capitol Street Art Fair welcomes you to enjoy art\, music\, and more in the heart of downtown Charleston\, WV! \nOver 60 local and regional artisans will sell and display their wares in bath & body\, books\, fine art\, jewelry\, pottery\, photography\, printmaking\, woodwork\, textiles\, and more. Live music stages\, roaming performers\, and other entertainment will also delight you for two days of fun in the heart of the city. \nMake sure to check out the Children’s Art Fair\, and more while you are there. \n  \n(FREE ENTRY) \nAdditional Sponsors: CAMC/Vandalia Health\, WV Lottery \n• 2026 Artisans •\n* indicates HAF participation (artists subject to change) \nBath & Body\nAppalachian Botanical Co.\nExclusive Pastime Creations LLC\nWild Mountain Soap Co. \nFace Painters\nRobbie Hay\n*Mell’s\nDoodlin’ Roo \nFine Art\n*Bashful Bee Press\n*Cali Wesson Artwork\n*Corrissa Flesher Art & Designs\n*HepCatz Design\n*John Wirts Art\nJuyeoun Kim Art\n*MarisaMade LLC\n*Matt Smith Makes\n*Melissa Doty Artwork\nMeredith Young\n*Sadie Valzetta Studio \nGlasswork\nJ.Straub Fine Art\nRoe Glass Art \nJewelry\nDiet Sweater\n*Connie McColley\, handmade jewelry\n*The Brass Era\nGayle Rancer Metalsmith\nLilahbloom Jewelry\nMick’s Media Jewelry\nMystical Crystal Jewelry\nOn Cord Creations\nPebble Nest Jewelry\nSacred Totems\n*Shea New jewelry\n*Teresa Gail Designs\nThe Queen of Arts-Curiosities by Adrienne \nPhotography\n*Deylight Photography\n*Echo-Lit\nKevin Jack Photography\n*Randall Sanger Photography\n*Reflection in a Pool\n*West Virginia Homeplace \nPottery/Ceramics\n*The Beard and The Bun Pottery\n*Ellie’s Emporium\nMegFerg Pottery\nMt. Momma Mud\n*Siren Pottery \nPrintmaking\n*Art.Monsters.Printmaking.\nBase Camp Printing Co.\n*Cathy L. Fulks Art\n*Hippie’s Daughter\nLogan Schmitt Illustration\n*Made by Meish\n*Sugar Pop Press \nMetalwork\n*Fire and Steel Artistic Creations| \nMisc.\nAngel Eye Designs (Beading)\nBettie Booths (Photobooth)\n*Harmonograph\nRob Cleland (caricatures) \nSpecialty Food\nThe Happy Hound\n*Hill & Holler Herbal Company\nOlden Days Farm and Cottage \nTextiles\nCedar Olivet Orientals\nKnotty Lady Macrame\nThe Madd Hooker Co.\n*Thomas Ruggiero Art & Designs\n*Yarn.0ver \nWoodwork\nArt by Petey and Weese Woodgems collaborative\n*Black Locust Woodshop\nHeirloom Footstools \n  \n• Street Stage Schedule •\nCapitol Street Stage presented by City National Bank\nSATURDAY\, May 30\n\n10am    O’Ryan the O’Mazing\n11am     McKinney Music\n12pm     Brenna and Brittaney\n1pm       Kurtis Schultis and Scripless\n2pm      Option 22\n3pm      East End Ghouls\n4pm      Old Soul Reunion\n5pm      Charleston Light Opera Guild\n\nSUNDAY\, May 31\n\n11am     Andy Park\n12pm    O’Ryan the O’Mazing\n1pm       Tony M Music\n2pm      Rylee Bapst Band\n3pm      Somethin’ Special\n4pm      Sasha Colette (Plus One)\n\n 
URL:https://festivallcharleston.com/event/capitol-street-art-fair-sunday/
LOCATION:Capitol Street\, 243 Capitol St.\, Charleston\, WV\, 25301\, United States
CATEGORIES:Local Art
ATTACH;FMTTYPE=image/jpeg:https://festivallcharleston.com/wp-content/uploads/2026/03/474694091_1035513538609665_3141177578031078417_n.jpg
ORGANIZER;CN="FestivALL":MAILTO:director@festivallcharleston.com
END:VEVENT
BEGIN:VEVENT
DTSTART;TZID=America/New_York:20260531T114000
DTEND;TZID=America/New_York:20260531T120000
DTSTAMP:20260425T092146
CREATED:20260422T160554Z
LAST-MODIFIED:20260422T160803Z
UID:2209-1780227600-1780228800@festivallcharleston.com
SUMMARY:Hot Jazz at the Capitol Street Art Fair
DESCRIPTION:Get your umbrellas ready for a second line parade around the Capitol Street Art Fair with Hot Jazz\, Charleston’s New Orleans-style brass band. \n 
URL:https://festivallcharleston.com/event/hot-jazz-at-the-capitol-street-art-fair/
LOCATION:Capitol Street\, 243 Capitol St.\, Charleston\, WV\, 25301\, United States
CATEGORIES:family-fun,music
ATTACH;FMTTYPE=image/jpeg:https://festivallcharleston.com/wp-content/uploads/2026/04/CSAF_116-scaled.jpg
END:VEVENT
BEGIN:VEVENT
DTSTART;TZID=America/New_York:20260531T134000
DTEND;TZID=America/New_York:20260531T140000
DTSTAMP:20260425T092146
CREATED:20260422T160832Z
LAST-MODIFIED:20260422T160832Z
UID:2211-1780234800-1780236000@festivallcharleston.com
SUMMARY:Hot Jazz at the Capitol Street Art Fair
DESCRIPTION:Get your umbrellas ready for a second line parade around the Capitol Street Art Fair with Hot Jazz\, Charleston’s New Orleans-style brass band.
URL:https://festivallcharleston.com/event/hot-jazz-at-the-capitol-street-art-fair-2/
CATEGORIES:family-fun,music
ATTACH;FMTTYPE=image/jpeg:https://festivallcharleston.com/wp-content/uploads/2026/04/CSAF_119-scaled.jpg
END:VEVENT
BEGIN:VEVENT
DTSTART;TZID=America/New_York:20260531T190000
DTEND;TZID=America/New_York:20260531T210000
DTSTAMP:20260425T092146
CREATED:20260414T180044Z
LAST-MODIFIED:20260416T180855Z
UID:2066-1780254000-1780261200@festivallcharleston.com
SUMMARY:FestivALL River Cruises: Murder on the River Queen
DESCRIPTION:Sunday\, May 31 | 7pm\nSolve this murder mystery on the open waters of the mighty Kanawha River!\nA sternwheeler becomes a crime scene in “Murder on the River Queen\,” a 1920s-themed murder mystery theatre cruise! Dress in your best roaring ’20s attire\, interact with the cast\, and help uncover the culprit as the investigation unfolds on the water. \nLocation: Haddad Riverfront Park\, 600 Kanawha Blvd.\nTime: 7:00pm \nTickets: General Admission $35
URL:https://festivallcharleston.com/event/festivall-river-cruises-murder-on-the-river-queen/
LOCATION:Haddad Riverfront Park\, 600 Kanawha Blvd. E\, Charleston\, WV\, 25301\, United States
CATEGORIES:family-fun,theatre
ORGANIZER;CN="FestivALL":MAILTO:director@festivallcharleston.com
END:VEVENT
END:VCALENDAR