BEGIN:VCALENDAR
VERSION:2.0
PRODID:-//FestivALL - ECPv6.15.17.1//NONSGML v1.0//EN
CALSCALE:GREGORIAN
METHOD:PUBLISH
X-WR-CALNAME:FestivALL
X-ORIGINAL-URL:https://festivallcharleston.com
X-WR-CALDESC:Events for FestivALL
REFRESH-INTERVAL;VALUE=DURATION:PT1H
X-Robots-Tag:noindex
X-PUBLISHED-TTL:PT1H
BEGIN:VTIMEZONE
TZID:America/New_York
BEGIN:DAYLIGHT
TZOFFSETFROM:-0500
TZOFFSETTO:-0400
TZNAME:EDT
DTSTART:20250309T070000
END:DAYLIGHT
BEGIN:STANDARD
TZOFFSETFROM:-0400
TZOFFSETTO:-0500
TZNAME:EST
DTSTART:20251102T060000
END:STANDARD
BEGIN:DAYLIGHT
TZOFFSETFROM:-0500
TZOFFSETTO:-0400
TZNAME:EDT
DTSTART:20260308T070000
END:DAYLIGHT
BEGIN:STANDARD
TZOFFSETFROM:-0400
TZOFFSETTO:-0500
TZNAME:EST
DTSTART:20261101T060000
END:STANDARD
BEGIN:DAYLIGHT
TZOFFSETFROM:-0500
TZOFFSETTO:-0400
TZNAME:EDT
DTSTART:20270314T070000
END:DAYLIGHT
BEGIN:STANDARD
TZOFFSETFROM:-0400
TZOFFSETTO:-0500
TZNAME:EST
DTSTART:20271107T060000
END:STANDARD
END:VTIMEZONE
BEGIN:VEVENT
DTSTART;TZID=America/New_York:20260526T180000
DTEND;TZID=America/New_York:20260526T193000
DTSTAMP:20260425T115155
CREATED:20260414T180005Z
LAST-MODIFIED:20260416T191126Z
UID:2115-1779818400-1779823800@festivallcharleston.com
SUMMARY:Keys to Improvisation with Bob Thompson
DESCRIPTION:Tuesday\, May 26 | 6pm \nJohn Inghram leads a conversation with jazz pianist and WV Music HOF member Bob Thompson with a focus on musical improvisation! \nThis workshop will consist of dialogue\, Q&A\, and musical performance and demonstration. \nTime: Tuesday\, May 26 at 6:00pm \nLocation: Folklore Music Exchange\, 191 Summers St \nTickets and more information coming soon! \nThe FestivALL Workshop series is presented by Ramsey EyeCare.
URL:https://festivallcharleston.com/event/keys-to-improvisation-with-bob-thompson/
LOCATION:Folklore Music Exchange\, 1025 Quarrier Street\, Charleston\, WV\, 25301
CATEGORIES:Local Art,music
ATTACH;FMTTYPE=image/jpeg:https://festivallcharleston.com/wp-content/uploads/2026/04/BTU-1-2.jpeg
ORGANIZER;CN="FestivALL":MAILTO:director@festivallcharleston.com
END:VEVENT
END:VCALENDAR