BEGIN:VCALENDAR
VERSION:2.0
PRODID:-//FestivALL - ECPv6.15.17.1//NONSGML v1.0//EN
CALSCALE:GREGORIAN
METHOD:PUBLISH
X-ORIGINAL-URL:https://festivallcharleston.com
X-WR-CALDESC:Events for FestivALL
REFRESH-INTERVAL;VALUE=DURATION:PT1H
X-Robots-Tag:noindex
X-PUBLISHED-TTL:PT1H
BEGIN:VTIMEZONE
TZID:America/New_York
BEGIN:DAYLIGHT
TZOFFSETFROM:-0500
TZOFFSETTO:-0400
TZNAME:EDT
DTSTART:20250309T070000
END:DAYLIGHT
BEGIN:STANDARD
TZOFFSETFROM:-0400
TZOFFSETTO:-0500
TZNAME:EST
DTSTART:20251102T060000
END:STANDARD
BEGIN:DAYLIGHT
TZOFFSETFROM:-0500
TZOFFSETTO:-0400
TZNAME:EDT
DTSTART:20260308T070000
END:DAYLIGHT
BEGIN:STANDARD
TZOFFSETFROM:-0400
TZOFFSETTO:-0500
TZNAME:EST
DTSTART:20261101T060000
END:STANDARD
BEGIN:DAYLIGHT
TZOFFSETFROM:-0500
TZOFFSETTO:-0400
TZNAME:EDT
DTSTART:20270314T070000
END:DAYLIGHT
BEGIN:STANDARD
TZOFFSETFROM:-0400
TZOFFSETTO:-0500
TZNAME:EST
DTSTART:20271107T060000
END:STANDARD
END:VTIMEZONE
BEGIN:VEVENT
DTSTART;TZID=America/New_York:20260530T100000
DTEND;TZID=America/New_York:20260530T140000
DTSTAMP:20260422T214439
CREATED:20260414T180047Z
LAST-MODIFIED:20260416T181539Z
UID:2056-1780135200-1780149600@festivallcharleston.com
SUMMARY:KCPL Storywalk® Up\, Down\, and Around
DESCRIPTION:Saturday\, May 30 | 10am – 2pm\nEnjoy the KCPL Storywalk® Up\, Down\, and Around\, a rhyming picture book that celebrates gardening and the life cycle of plants\, following vegetables as they grow “up\, down\, and around”.  \nLocation: KCPL Art Walk\, adjacent to the Main Library\, 123 Capitol St. \nTime: 10:00am – 2:00pm
URL:https://festivallcharleston.com/event/kcpl-storywalk-up-down-and-around/
CATEGORIES:family-fun,Literature
ATTACH;FMTTYPE=image/jpeg:https://festivallcharleston.com/wp-content/uploads/2026/04/Kanawha_Library_529-scaled.jpg
END:VEVENT
BEGIN:VEVENT
DTSTART;TZID=America/New_York:20260530T120000
DTEND;TZID=America/New_York:20260530T140000
DTSTAMP:20260422T214439
CREATED:20260414T180027Z
LAST-MODIFIED:20260416T181356Z
UID:2059-1780142400-1780149600@festivallcharleston.com
SUMMARY:Poems While You Wait
DESCRIPTION:Saturday\, May 30 | 12pm – 1pm\nWest Virginia Poet Laureate Marc Harshman and fellow poet Renée Nicholson will create original\, one-of-a-kind poems designed just for you! Visit the poets in the Taylor Books Annex Gallery\, select a topic\, and they’ll begin writing.  \nLocation: Taylor Books Annex Gallery\, 226 Capitol St. \nDonations: $5 suggested donation to purchase a poem supporting FestivALL’s programming
URL:https://festivallcharleston.com/event/poems-while-you-wait-4/
LOCATION:Taylor Books\, 226 Capitol Street\, Charleston\, WV\, 25301\, United States
ATTACH;FMTTYPE=image/jpeg:https://festivallcharleston.com/wp-content/uploads/2026/04/CSAF_74-scaled.jpg
END:VEVENT
END:VCALENDAR