BEGIN:VCALENDAR
VERSION:2.0
PRODID:-//FestivALL - ECPv6.15.17.1//NONSGML v1.0//EN
CALSCALE:GREGORIAN
METHOD:PUBLISH
X-ORIGINAL-URL:https://festivallcharleston.com
X-WR-CALDESC:Events for FestivALL
REFRESH-INTERVAL;VALUE=DURATION:PT1H
X-Robots-Tag:noindex
X-PUBLISHED-TTL:PT1H
BEGIN:VTIMEZONE
TZID:America/New_York
BEGIN:DAYLIGHT
TZOFFSETFROM:-0500
TZOFFSETTO:-0400
TZNAME:EDT
DTSTART:20240310T070000
END:DAYLIGHT
BEGIN:STANDARD
TZOFFSETFROM:-0400
TZOFFSETTO:-0500
TZNAME:EST
DTSTART:20241103T060000
END:STANDARD
BEGIN:DAYLIGHT
TZOFFSETFROM:-0500
TZOFFSETTO:-0400
TZNAME:EDT
DTSTART:20250309T070000
END:DAYLIGHT
BEGIN:STANDARD
TZOFFSETFROM:-0400
TZOFFSETTO:-0500
TZNAME:EST
DTSTART:20251102T060000
END:STANDARD
BEGIN:DAYLIGHT
TZOFFSETFROM:-0500
TZOFFSETTO:-0400
TZNAME:EDT
DTSTART:20260308T070000
END:DAYLIGHT
BEGIN:STANDARD
TZOFFSETFROM:-0400
TZOFFSETTO:-0500
TZNAME:EST
DTSTART:20261101T060000
END:STANDARD
END:VTIMEZONE
BEGIN:VEVENT
DTSTART;TZID=America/New_York:20250529T190000
DTEND;TZID=America/New_York:20250529T210000
DTSTAMP:20260421T133256
CREATED:20250924T020332Z
LAST-MODIFIED:20250924T020332Z
UID:1768-1748545200-1748552400@festivallcharleston.com
SUMMARY:Live Music Bingo
DESCRIPTION:Live Music Bingo\nMay 29 7pm – 9pm\n \nArts Amplified presents Live Music Bingo at Fife Street Brewing featuring Shane Meade! \nA fun mash-up of live music and bingo — but with a twist. Instead of letters and numbers\, you’ll mark spaces on your bingo card based on songs and unexpected moments during the performance. Free to play\, all ages welcome\, and multiple prizes up for grabs. Come for the tunes\, stay for the game! \nIn partnership with Arts Amplified  \nLocation: Fife Street Brewing\, 180 Summers Street
URL:https://festivallcharleston.com/event/live-music-bingo-5/
LOCATION:WV
ATTACH;FMTTYPE=:
END:VEVENT
BEGIN:VEVENT
DTSTART;TZID=America/New_York:20250530T183000
DTEND;TZID=America/New_York:20250530T213000
DTSTAMP:20260421T133256
CREATED:20250924T020335Z
LAST-MODIFIED:20250924T020335Z
UID:1773-1748629800-1748640600@festivallcharleston.com
SUMMARY:(CANCELED) Live on the Levee presented by Moses Auto Group
DESCRIPTION:(CANCELED) Live on the Levee presented by Moses Auto Group\nMay 30 | 6:30pm – 9:30pm\nHaddad Riverfront Park\, 600 Kanawha Blvd.\n\n \nThe City of Charleston is working to reschedule this event for a future date. Please be sure to check out our other events this evening!  \nEnjoy Charleston’s free\, Friday-night summer concert series set to the backdrop of the Kanawha River. Food and beverage vendors on site. \nKentucky bluegrass band Magnolia Boulevard will open for No BS! Brass Band\, a powerful brass band that infuses the spirit of New Orleans into its original East Coast modern funk. \nLocation: Schoenbaum Stage\, Haddad River Front Park\, 600 Kanawha Blvd. East \n\nTime: 6:30pm – 9:30pm
URL:https://festivallcharleston.com/event/live-on-the-levee-presented-by-moses-auto-group/
LOCATION:Haddad Riverfront Park\, 600 Kanawha Blvd. E\, Charleston\, WV\, 25301\, United States
CATEGORIES:family-fun,Local Art,music
ATTACH;FMTTYPE=:
END:VEVENT
BEGIN:VEVENT
DTSTART;TZID=America/New_York:20250531T090000
DTEND;TZID=America/New_York:20250531T103000
DTSTAMP:20260421T133256
CREATED:20250924T020330Z
LAST-MODIFIED:20250924T020330Z
UID:1763-1748682000-1748687400@festivallcharleston.com
SUMMARY:Yoga on the River
DESCRIPTION:Yoga on the River\nMay 31 | 9am\n																										 \n  \nFind your Zen before a day full of FestivALL activities.  \nJoin Beth Moore\, Yoga Instructor at Folded Leaf Yoga & Wellness Center\, for a 60-minute all-levels Yoga practice.  \nBeginner friendly.  \nSome mats and props will be provided. If you have your own\, please bring them\, and bringing a blanket is recommended! \nLocation: Haddad Riverfront Park\, 600 Kanawha Blvd. E
URL:https://festivallcharleston.com/event/yoga-on-the-river/
LOCATION:WV
CATEGORIES:other-events
ATTACH;FMTTYPE=:
END:VEVENT
BEGIN:VEVENT
DTSTART;TZID=America/New_York:20250531T100000
DTEND;TZID=America/New_York:20250531T170000
DTSTAMP:20260421T133256
CREATED:20250924T020325Z
LAST-MODIFIED:20250924T020325Z
UID:1751-1748685600-1748710800@festivallcharleston.com
SUMMARY:Children's Art Fair (Saturday)
DESCRIPTION:Children’s Art Fair\nSaturday\, May 31 | 10am-5pm\nSunday\, June 1 | 11am-4pm\n \nThe FestivALL Children’s Art Fair is the perfect two days of family fun! The Children’s Art Fair & Sale offers young artists the chance to interact with each other and the public. Invited artists and community groups offer free make-and-take art activities\, kid-friendly performances take the stage all day long\, and children have the opportunity to participate in art instruction provided by FestivALL leading up to the fair where they will get to sell their works. \nFrom 10am-3pm check out the Annual Kanawha County Public Library Used Book Sale! This year’s Annual Used Book Sale in conjunction with the Capitol Street Art Fair will be held at the Main Library in Room 311. All proceeds help fund library programs and services. \nSponsors: The Elliot Family Foundation\, The Daywood Foundation\, CAMC/Vandalia Health\, United Bank\, the Kanawha County Public Library\, and Security America \nSaturday\, May 31 (Bailey Glasser\, LLP Children’s Stage)\nLocated outside of the Downtown Kanawha County Public Library\n10am     Children’s Theatre of Charleston\n11am     River City Youth Ballet\n12pm     Grateful Kids with John Inghram & Friends\n1pm       Katzendrummerz\, Play drums! Have fun! (Ammed Solomon\, Mark Davis)\n2pm       Tony M. Music\n3pm       O’Ryan the O’Mazing (Juggling Variety Act)\n4pm       Tony M. Music
URL:https://festivallcharleston.com/event/childrens-art-fair/
LOCATION:Capitol Street\, 243 Capitol St.\, Charleston\, WV\, 25301\, United States
CATEGORIES:family-fun,Local Art,music,visual arts
ATTACH;FMTTYPE=:
ORGANIZER;CN="FestivALL":MAILTO:director@festivallcharleston.com
END:VEVENT
END:VCALENDAR