BEGIN:VCALENDAR
VERSION:2.0
PRODID:-//FestivALL - ECPv6.15.17.1//NONSGML v1.0//EN
CALSCALE:GREGORIAN
METHOD:PUBLISH
X-WR-CALNAME:FestivALL
X-ORIGINAL-URL:https://festivallcharleston.com
X-WR-CALDESC:Events for FestivALL
REFRESH-INTERVAL;VALUE=DURATION:PT1H
X-Robots-Tag:noindex
X-PUBLISHED-TTL:PT1H
BEGIN:VTIMEZONE
TZID:America/New_York
BEGIN:DAYLIGHT
TZOFFSETFROM:-0500
TZOFFSETTO:-0400
TZNAME:EDT
DTSTART:20250309T070000
END:DAYLIGHT
BEGIN:STANDARD
TZOFFSETFROM:-0400
TZOFFSETTO:-0500
TZNAME:EST
DTSTART:20251102T060000
END:STANDARD
BEGIN:DAYLIGHT
TZOFFSETFROM:-0500
TZOFFSETTO:-0400
TZNAME:EDT
DTSTART:20260308T070000
END:DAYLIGHT
BEGIN:STANDARD
TZOFFSETFROM:-0400
TZOFFSETTO:-0500
TZNAME:EST
DTSTART:20261101T060000
END:STANDARD
BEGIN:DAYLIGHT
TZOFFSETFROM:-0500
TZOFFSETTO:-0400
TZNAME:EDT
DTSTART:20270314T070000
END:DAYLIGHT
BEGIN:STANDARD
TZOFFSETFROM:-0400
TZOFFSETTO:-0500
TZNAME:EST
DTSTART:20271107T060000
END:STANDARD
END:VTIMEZONE
BEGIN:VEVENT
DTSTART;TZID=America/New_York:20260528T173000
DTEND;TZID=America/New_York:20260528T183000
DTSTAMP:20260419T092451
CREATED:20260414T180005Z
LAST-MODIFIED:20260416T190727Z
UID:2116-1779989400-1779993000@festivallcharleston.com
SUMMARY:“I’m With the Band!” Ukulele Jam Session with Tony M. Music
DESCRIPTION:Thursday\, May 28 | 5:30pm \nJoin multi-instrumentalist Tony M. Music for a basic introduction to playing the ukulele. \nBring your ukulele (some available on site) and learn a few easy chords while playing simple\, feel-good songs together. This FREE\, relaxed jam session is perfect for beginners and open to anyone ages 10 and up. No pressure — just strumming\, singing\, and enjoying music as a group! \nLocation: City Center at Slack Plaza\, 182 Summers St \nAges: All ages \nFee: Free to attend \nThe FestivALL Workshop series is presented by Ramsey EyeCare. \n  \n 
URL:https://festivallcharleston.com/event/im-with-the-band-ukulele-jam-session-with-tony-m-music/
LOCATION:Slack Plaza\, City Center\, 177 Summers Street\, Charleston\, West Virginia
CATEGORIES:family-fun,music
ATTACH;FMTTYPE=image/png:https://festivallcharleston.com/wp-content/uploads/2026/04/Screenshot-2026-04-15-at-2.57.35-PM.png
ORGANIZER;CN="FestivALL":MAILTO:director@festivallcharleston.com
END:VEVENT
END:VCALENDAR